BEGIN:VCALENDAR
VERSION:2.0
PRODID:-//Dave Fleschner - ECPv6.15.20//NONSGML v1.0//EN
CALSCALE:GREGORIAN
METHOD:PUBLISH
X-ORIGINAL-URL:https://davefleschner.com
X-WR-CALDESC:Events for Dave Fleschner
REFRESH-INTERVAL;VALUE=DURATION:PT1H
X-Robots-Tag:noindex
X-PUBLISHED-TTL:PT1H
BEGIN:VTIMEZONE
TZID:America/Los_Angeles
BEGIN:DAYLIGHT
TZOFFSETFROM:-0800
TZOFFSETTO:-0700
TZNAME:PDT
DTSTART:20240310T100000
END:DAYLIGHT
BEGIN:STANDARD
TZOFFSETFROM:-0700
TZOFFSETTO:-0800
TZNAME:PST
DTSTART:20241103T090000
END:STANDARD
BEGIN:DAYLIGHT
TZOFFSETFROM:-0800
TZOFFSETTO:-0700
TZNAME:PDT
DTSTART:20250309T100000
END:DAYLIGHT
BEGIN:STANDARD
TZOFFSETFROM:-0700
TZOFFSETTO:-0800
TZNAME:PST
DTSTART:20251102T090000
END:STANDARD
BEGIN:DAYLIGHT
TZOFFSETFROM:-0800
TZOFFSETTO:-0700
TZNAME:PDT
DTSTART:20260308T100000
END:DAYLIGHT
BEGIN:STANDARD
TZOFFSETFROM:-0700
TZOFFSETTO:-0800
TZNAME:PST
DTSTART:20261101T090000
END:STANDARD
END:VTIMEZONE
BEGIN:VEVENT
DTSTART;TZID=America/Los_Angeles:20250601T090000
DTEND;TZID=America/Los_Angeles:20250606T100000
DTSTAMP:20260424T092024
CREATED:20241117T071234Z
LAST-MODIFIED:20250402T114818Z
UID:447-1748768400-1749204000@davefleschner.com
SUMMARY:Crawfish fest
DESCRIPTION:
URL:https://davefleschner.com/event/crawfish-fest/
LOCATION:New Jersey\, USA
END:VEVENT
BEGIN:VEVENT
DTSTART;TZID=America/Los_Angeles:20250602T183000
DTEND;TZID=America/Los_Angeles:20250602T203000
DTSTAMP:20260424T092024
CREATED:20250220T110123Z
LAST-MODIFIED:20250310T002913Z
UID:1259-1748889000-1748896200@davefleschner.com
SUMMARY:Dave's Lowdown Youth Jam
DESCRIPTION:Dave’s Lowdown Youth Blues Jam w/ Backbeat Music Academy Rhythm Section \nThis learning-focused jam is for student-age musicians of all levels who are serious about developing musicianship. \nThis jam will be on the 1st Monday night each month. Artichoke Music is open to all ages…always. \nhttps://artichokemusic.org/class.aspx?cls=986688
URL:https://davefleschner.com/event/daves-lowdown-youth-jam-4/
LOCATION:Artichoke Community Music\, 2007 SE Powell Blvd\, Portland\, OR\, United States
END:VEVENT
BEGIN:VEVENT
DTSTART;TZID=America/Los_Angeles:20250603T200000
DTEND;TZID=America/Los_Angeles:20250603T220000
DTSTAMP:20260424T092024
CREATED:20250528T230838Z
LAST-MODIFIED:20250528T230838Z
UID:1762-1748980800-1748988000@davefleschner.com
SUMMARY:Blues Dancers at HōKū with Karen-Maria Capo
DESCRIPTION:
URL:https://davefleschner.com/event/blues-dancers-at-hoku-with-karen-maria-capo/
LOCATION:Hōkū Events on Madison\, 1125 SE Madison St\, Portland\, OR\, 97214\, United States
END:VEVENT
BEGIN:VEVENT
DTSTART;TZID=America/Los_Angeles:20250605T210000
DTEND;TZID=America/Los_Angeles:20250605T220000
DTSTAMP:20260424T092024
CREATED:20250509T222130Z
LAST-MODIFIED:20250509T222130Z
UID:1723-1749157200-1749160800@davefleschner.com
SUMMARY:The Bundy Band
DESCRIPTION:The BundyBand plays music inspired by New Orleans and the Pacific Northwest. It features many musicians who have been playing together in various formations for nearly 4 decades. You might catch us on a night up on the hill playing the jazz. Or a guest might come by and steer us down a path of John Prine songs. Any style of music is fair game: New Orleans trad jazz\, second line brass band tunes\, funk\, standards\, original songs about Humanzees and Han Solo\, or even covers from artists like Charles Wright\, The Band\, or Phish. Sometimes Fleschner lights an infinite cosmic fire with his organ. Sometimes Savage tears the fabric of space time with his flute. Sometimes Bundy even plugs his clarinet into a bunch of pedals and breaks your mind. If we get it right\, the music goes somewhere really special\, and we all go along for the ride.
URL:https://davefleschner.com/event/the-bundy-band-2/
LOCATION:The Goodfoot | Music\, Portland\, OR\, United States
END:VEVENT
BEGIN:VEVENT
DTSTART;TZID=America/Los_Angeles:20250612T190000
DTEND;TZID=America/Los_Angeles:20250612T213000
DTSTAMP:20260424T092024
CREATED:20250523T224207Z
LAST-MODIFIED:20250610T092541Z
UID:1756-1749754800-1749763800@davefleschner.com
SUMMARY:The Dave Fleschner Trio Featuring Josh Fulero and more!!!
DESCRIPTION:The Dave Fleschner Trio\nDoors at 6:30Music from 7:00 ’til 10:00\nSliding Scale at the door\, $15-20 recommended\n\nThe Dave Fleschner Trio will perform a short set\, and then open it up to friends of Dave’s who have been invited to sit in with the band\, with Dan Gildea on Guitar and Charlie Doggett on Drums.\n\nYou never know who’s going to stop by\, If you caught Dave’s Birthday Party at Catfish Lou’s last year\, you know it will be a mix of great players in a variety of styles.\n\nDave Fleschner performs routinely around the world. He’s worked with countless Grammy Winning artists\, jazz masters\, rock stars\, blues icons\, soul legends\, as well as the Portland Symphony Orchestra and the Portland Gay Men’s Chorus.\nNotably\, he has worked with Grammy Winning artists: B.B. King\, The Pointer Sisters\, Steve Miller\, Christone “Kingfish” Ingram\, Bobby Rush\, Chubby Carrier and The Portland Symphony Orchestra.\n\nHe has toured internationally with Curtis Salgado\, John Nemeth\, Kara Granger\, Karen Lovely\, Earl Thomas and United by Music North America. Fleschner’s song “I Want to love you” was in contention for Grammy Nomination by two different artists in the same year. He has released several albums as a band leader – and countless albums as a producer\, sideman and band member. In demand as a producer\, composer\, songwriter\, orchestrater\, arranger\, music director\, side man and educator\, Fleschner’s music displays a deep understanding of American roots music.\n\n\n◦ Very inventive and swingin’ Mike Finnigan – Master Organist/Pianist◦ Dave is . . killin’ it on there. The songs are great! Curtis Salgado◦ Fleschner has a strong vision’ and has more than demonstrated his abilities. Marty Hughley\, The Oregonian◦ Dave Fleschner’ has his act wired tight\, oozing soulful pulp all over the place. John Chandler\, Portland Tribune◦ Dave plays ‘ with a vengeance and fury. Bob Cooper\, On-line Musicnet◦ Dave has a unique musical voice. Mary Burlingame\, KMHD Radio 89.1fm◦ Very versatile! Touring with soul man Curtis Salgado shows\, and the jazz swings in a 21st Century way! Tom D’Antoni\, Editor ‘ Oregon Music News
URL:https://davefleschner.com/event/the-dave-fleschner-trio-2/
LOCATION:Hōkū Events on Madison\, 1125 SE Madison St\, Portland\, OR\, 97214\, United States
END:VEVENT
BEGIN:VEVENT
DTSTART;TZID=America/Los_Angeles:20250613T193000
DTEND;TZID=America/Los_Angeles:20250613T210000
DTSTAMP:20260424T092024
CREATED:20250427T215743Z
LAST-MODIFIED:20250610T092659Z
UID:1581-1749843000-1749848400@davefleschner.com
SUMMARY:The Bottleneck Blues Band
DESCRIPTION:OREGON BREWERS & BBQ FESTIVAL\nFriday\, June 13·6:00 – 8:00pm\n\n\n\n\nOregon Brews & BBQ\, 2070 NE Lafayette Ave\, McMinnville\, OR 97128\, USA\n\n\nnotes\n\nWelcome to the Oregon Brews & BBQ\, Fathers Day Bash! We’re thrilled to have you join us for a weekend filled with fantastic craft beers\, mouth-watering BBQ\, and a lively atmosphere. Our event program is designed to guide you through all the exciting activities we have lined up. Whether you’re a beer enthusiast\, a BBQ lover\, or just here for a good time\, there’s something for everyone. Dive into the program to make the most of your experience\, and get ready for a day of unforgettable fun and flavor in the heart of Oregon!  BOTTLENECK BLUES BAND TAKES THE MAIN STAGEFROM 4 TO 6PM.
URL:https://davefleschner.com/event/the-bottleneck-blues-band-2/
LOCATION:McMinnville\, McMinnville\, OR\, United States
END:VEVENT
BEGIN:VEVENT
DTSTART;TZID=America/Los_Angeles:20250615T160000
DTEND;TZID=America/Los_Angeles:20250615T173000
DTSTAMP:20260424T092024
CREATED:20250528T230838Z
LAST-MODIFIED:20250610T093013Z
UID:1763-1750003200-1750008600@davefleschner.com
SUMMARY:Dave Fleschner's Blues Cabaret
DESCRIPTION:with special guest\, Earl Thomas.
URL:https://davefleschner.com/event/dave-fleschners-blues-cabaret/
LOCATION:Trinidad Town Hall\, 409 Trinity St\, Trinidad\, CA\, United States
END:VEVENT
BEGIN:VEVENT
DTSTART;TZID=America/Los_Angeles:20250618T170000
DTEND;TZID=America/Los_Angeles:20250618T200000
DTSTAMP:20260424T092024
CREATED:20250424T215755Z
LAST-MODIFIED:20250424T215755Z
UID:1572-1750266000-1750276800@davefleschner.com
SUMMARY:Dave solo
DESCRIPTION:
URL:https://davefleschner.com/event/dave-solo-5/
LOCATION:Headlands Coastal Lodge & Spa\, 33000 Cape Kiwanda Dr\, Pacific City\, OR\, United States
END:VEVENT
BEGIN:VEVENT
DTSTART;TZID=America/Los_Angeles:20250620T000000
DTEND;TZID=America/Los_Angeles:20250622T235959
DTSTAMP:20260424T092024
CREATED:20241227T001253Z
LAST-MODIFIED:20250310T002913Z
UID:959-1750377600-1750636799@davefleschner.com
SUMMARY:Fest 4 All with United By Music
DESCRIPTION:
URL:https://davefleschner.com/event/fest-4-all-with-united-by-music/
LOCATION:Uptown Gig Harbor\, 37675 NE Vista Key Dr\, Hansville\, WA\, United States
END:VEVENT
BEGIN:VEVENT
DTSTART;TZID=America/Los_Angeles:20250624T200000
DTEND;TZID=America/Los_Angeles:20250624T220000
DTSTAMP:20260424T092024
CREATED:20250611T233845Z
LAST-MODIFIED:20250618T183003Z
UID:1793-1750795200-1750802400@davefleschner.com
SUMMARY:Dave Fleschner duo with Karen-Maria Capo and the Blues Dancers
DESCRIPTION:
URL:https://davefleschner.com/event/duo-jam-with-karen-maria-capo-and-the-blues-dancers/
LOCATION:Hōkū Events on Madison\, 1125 SE Madison St\, Portland\, OR\, 97214\, United States
END:VEVENT
BEGIN:VEVENT
DTSTART;TZID=America/Los_Angeles:20250626T000000
DTEND;TZID=America/Los_Angeles:20250626T235959
DTSTAMP:20260424T092024
CREATED:20250129T215624Z
LAST-MODIFIED:20250310T002913Z
UID:1091-1750896000-1750982399@davefleschner.com
SUMMARY:Sabroso
DESCRIPTION:
URL:https://davefleschner.com/event/sabroso-9/
LOCATION:Alpenglow Park\, 61501 SE 15th St\, Bend\, OR\, United States
END:VEVENT
BEGIN:VEVENT
DTSTART;TZID=America/Los_Angeles:20250628T170000
DTEND;TZID=America/Los_Angeles:20250628T200000
DTSTAMP:20260424T092024
CREATED:20250118T224501Z
LAST-MODIFIED:20250310T002913Z
UID:1064-1751130000-1751140800@davefleschner.com
SUMMARY:Sabroso
DESCRIPTION:
URL:https://davefleschner.com/event/sabroso-7/
LOCATION:Oregon City\, Oregon City\, OR\, United States
END:VEVENT
END:VCALENDAR