BEGIN:VCALENDAR
VERSION:2.0
PRODID:-//Dave Fleschner - ECPv6.15.20//NONSGML v1.0//EN
CALSCALE:GREGORIAN
METHOD:PUBLISH
X-WR-CALNAME:Dave Fleschner
X-ORIGINAL-URL:https://davefleschner.com
X-WR-CALDESC:Events for Dave Fleschner
REFRESH-INTERVAL;VALUE=DURATION:PT1H
X-Robots-Tag:noindex
X-PUBLISHED-TTL:PT1H
BEGIN:VTIMEZONE
TZID:America/Los_Angeles
BEGIN:DAYLIGHT
TZOFFSETFROM:-0800
TZOFFSETTO:-0700
TZNAME:PDT
DTSTART:20240310T100000
END:DAYLIGHT
BEGIN:STANDARD
TZOFFSETFROM:-0700
TZOFFSETTO:-0800
TZNAME:PST
DTSTART:20241103T090000
END:STANDARD
BEGIN:DAYLIGHT
TZOFFSETFROM:-0800
TZOFFSETTO:-0700
TZNAME:PDT
DTSTART:20250309T100000
END:DAYLIGHT
BEGIN:STANDARD
TZOFFSETFROM:-0700
TZOFFSETTO:-0800
TZNAME:PST
DTSTART:20251102T090000
END:STANDARD
BEGIN:DAYLIGHT
TZOFFSETFROM:-0800
TZOFFSETTO:-0700
TZNAME:PDT
DTSTART:20260308T100000
END:DAYLIGHT
BEGIN:STANDARD
TZOFFSETFROM:-0700
TZOFFSETTO:-0800
TZNAME:PST
DTSTART:20261101T090000
END:STANDARD
END:VTIMEZONE
BEGIN:VEVENT
DTSTART;TZID=America/Los_Angeles:20250301T183000
DTEND;TZID=America/Los_Angeles:20250301T210000
DTSTAMP:20260424T141430
CREATED:20250129T215623Z
LAST-MODIFIED:20250301T224050Z
UID:1088-1740853800-1740862800@davefleschner.com
SUMMARY:Idle Poets
DESCRIPTION:
URL:https://davefleschner.com/event/idle-poets-8/
LOCATION:Le Coupe Champagne and Wine Bar\, 3332 SW Corbett Ave\, Portland\, OR\, United States
END:VEVENT
BEGIN:VEVENT
DTSTART;TZID=America/Los_Angeles:20250303T183000
DTEND;TZID=America/Los_Angeles:20250303T203000
DTSTAMP:20260424T141430
CREATED:20250220T110122Z
LAST-MODIFIED:20250303T225543Z
UID:1253-1741026600-1741033800@davefleschner.com
SUMMARY:Dave's Lowdown Youth Jam
DESCRIPTION:Dave’s Lowdown Youth Blues Jam w/ Backbeat Music Academy Rhythm Section \nThis learning-focused jam is for student-age musicians of all levels who are serious about developing musicianship. \nThis jam will be on the 1st Monday night each month. Artichoke Music is open to all ages…always. \nhttps://artichokemusic.org/class.aspx?cls=986688
URL:https://davefleschner.com/event/daves-lowdown-youth-jam/
LOCATION:Artichoke Community Music\, 2007 SE Powell Blvd\, Portland\, OR\, United States
END:VEVENT
BEGIN:VEVENT
DTSTART;TZID=America/Los_Angeles:20250304T200000
DTEND;TZID=America/Los_Angeles:20250304T230000
DTSTAMP:20260424T141430
CREATED:20250115T223513Z
LAST-MODIFIED:20250304T225557Z
UID:1047-1741118400-1741129200@davefleschner.com
SUMMARY:Bundy band Mardi Gras party
DESCRIPTION:
URL:https://davefleschner.com/event/bundy-band-mardi-gras-party/
LOCATION:Skyline tavern\, 8031 NW Skyline Blvd\, Portland\, OR\, United States
END:VEVENT
BEGIN:VEVENT
DTSTART;TZID=America/Los_Angeles:20250307T180000
DTEND;TZID=America/Los_Angeles:20250307T210000
DTSTAMP:20260424T141430
CREATED:20250204T221138Z
LAST-MODIFIED:20250204T221138Z
UID:1144-1741370400-1741381200@davefleschner.com
SUMMARY:Jonathon Smith Organ Trio
DESCRIPTION:
URL:https://davefleschner.com/event/jonathon-smith-organ-trio-2/
LOCATION:The Hoppy Brewer\, 328 N Main Ave\, Gresham\, OR\, United States
END:VEVENT
BEGIN:VEVENT
DTSTART;TZID=America/Los_Angeles:20250308T193000
DTEND;TZID=America/Los_Angeles:20250308T223000
DTSTAMP:20260424T141430
CREATED:20250301T224048Z
LAST-MODIFIED:20250308T231140Z
UID:1325-1741462200-1741473000@davefleschner.com
SUMMARY:Joel Baker Band
DESCRIPTION:
URL:https://davefleschner.com/event/joel-baker-band/
LOCATION:Kitty’s Food and Spirits\, 204 1/2 Main Ave\, Tillamook\, OR 97141\, USA
END:VEVENT
BEGIN:VEVENT
DTSTART;TZID=America/Los_Angeles:20250314T190000
DTEND;TZID=America/Los_Angeles:20250314T220000
DTSTAMP:20260424T141430
CREATED:20241216T221539Z
LAST-MODIFIED:20250310T002851Z
UID:841-1741978800-1741989600@davefleschner.com
SUMMARY:Sabroso
DESCRIPTION:
URL:https://davefleschner.com/event/sabroso-5/
LOCATION:The 1905\, 830 N Shaver St\, Portland\, OR\, United States
END:VEVENT
BEGIN:VEVENT
DTSTART;TZID=America/Los_Angeles:20250315T190000
DTEND;TZID=America/Los_Angeles:20250315T210000
DTSTAMP:20260424T141430
CREATED:20250311T215418Z
LAST-MODIFIED:20250311T215418Z
UID:1390-1742065200-1742072400@davefleschner.com
SUMMARY:John Bunzow Band
DESCRIPTION:https://www.facebook.com/share/1FT7XuUAnd/?mibextid=wwXIfr
URL:https://davefleschner.com/event/john-bunzow-band-2/
LOCATION:Strum\, 1415 SE Stark St\, Portland\, OR\, United States
END:VEVENT
BEGIN:VEVENT
DTSTART;TZID=America/Los_Angeles:20250320T210000
DTEND;TZID=America/Los_Angeles:20250320T235500
DTSTAMP:20260424T141430
CREATED:20241227T001252Z
LAST-MODIFIED:20250310T002852Z
UID:957-1742504400-1742514900@davefleschner.com
SUMMARY:Professional Midnight
DESCRIPTION:No Cover
URL:https://davefleschner.com/event/professional-midnight-3/
LOCATION:Starday Tavern\, 6517 SE Foster Rd\, Portland\, OR\, United States
END:VEVENT
BEGIN:VEVENT
DTSTART;TZID=America/Los_Angeles:20250322T130000
DTEND;TZID=America/Los_Angeles:20250322T150000
DTSTAMP:20260424T141430
CREATED:20250318T200246Z
LAST-MODIFIED:20250318T200246Z
UID:1419-1742648400-1742655600@davefleschner.com
SUMMARY:Sweet Preserves
DESCRIPTION:
URL:https://davefleschner.com/event/sweet-preserves/
LOCATION:Laurelthirst Public House\, 2958 NE Glisan St\, Portland\, OR\, United States
END:VEVENT
BEGIN:VEVENT
DTSTART;TZID=America/Los_Angeles:20250327T180000
DTEND;TZID=America/Los_Angeles:20250327T210000
DTSTAMP:20260424T141430
CREATED:20250220T110122Z
LAST-MODIFIED:20250323T193107Z
UID:1254-1743098400-1743109200@davefleschner.com
SUMMARY:The Dave Fleschner Trio Featuring Arietta Ward
DESCRIPTION:Doors at 6:00 P.M. \n1 Ticket – Two sets\, starting at 6:30 and 8:00 \n$15 if you buy before March 27. \n$20 at the door. \nUnderage seating available\, please indicated when purchasing tickets. \nHoku has delicious food and a full bar. \nThis will be the kickoff for a special Thursday night series featuring special guests at Hoku Events.  Be a part of this scene from its inception! Every Thursday will be different. \nArietta Ward joins the Dave Fleschner Trio and Querencia Dance Co. for a show you won’t forget. \nArietta\, referred as the “1st Daughter of Funk and R&B” and “Rip City Soul Funk Diva”\, is a force to behold. Her performances are full of joy\, authenticity\, passion and humor; an experience that you will not soon forget. \nDave\, Dan and Charlie have been making music together for decades. This trio begins with the vehicles for improvisation – a range of original tunes from Dave’s catalogue\, as well as a variety of blues\, funk soul and jazz classics. \n◦ Very inventive and swingin’ – Mike Finnigan \n◦ Dave is . . killin’ it on there. The songs are great! – Curtis Salgado \nAs if that’s not enough\, Querencia Dance Company will feature burlesque dancing by Bee Bee Sanchez and Obscura Fox accompanied by the band.
URL:https://davefleschner.com/event/the-dave-fleschner-trio-featuring-arietta-ward/
LOCATION:Hōkū Events on Madison\, 1125 SE Madison St\, Portland\, OR\, 97214\, United States
ORGANIZER;CN="Dave Fleschner":MAILTO:fleschtonerecords@gmail.com
END:VEVENT
END:VCALENDAR