BEGIN:VCALENDAR
VERSION:2.0
PRODID:-//Dave Fleschner - ECPv6.15.20//NONSGML v1.0//EN
CALSCALE:GREGORIAN
METHOD:PUBLISH
X-ORIGINAL-URL:https://davefleschner.com
X-WR-CALDESC:Events for Dave Fleschner
REFRESH-INTERVAL;VALUE=DURATION:PT1H
X-Robots-Tag:noindex
X-PUBLISHED-TTL:PT1H
BEGIN:VTIMEZONE
TZID:America/Los_Angeles
BEGIN:DAYLIGHT
TZOFFSETFROM:-0800
TZOFFSETTO:-0700
TZNAME:PDT
DTSTART:20240310T100000
END:DAYLIGHT
BEGIN:STANDARD
TZOFFSETFROM:-0700
TZOFFSETTO:-0800
TZNAME:PST
DTSTART:20241103T090000
END:STANDARD
BEGIN:DAYLIGHT
TZOFFSETFROM:-0800
TZOFFSETTO:-0700
TZNAME:PDT
DTSTART:20250309T100000
END:DAYLIGHT
BEGIN:STANDARD
TZOFFSETFROM:-0700
TZOFFSETTO:-0800
TZNAME:PST
DTSTART:20251102T090000
END:STANDARD
BEGIN:DAYLIGHT
TZOFFSETFROM:-0800
TZOFFSETTO:-0700
TZNAME:PDT
DTSTART:20260308T100000
END:DAYLIGHT
BEGIN:STANDARD
TZOFFSETFROM:-0700
TZOFFSETTO:-0800
TZNAME:PST
DTSTART:20261101T090000
END:STANDARD
END:VTIMEZONE
BEGIN:VEVENT
DTSTART;TZID=America/Los_Angeles:20250202T140000
DTEND;TZID=America/Los_Angeles:20250202T170000
DTSTAMP:20260424T160928
CREATED:20250130T084824Z
LAST-MODIFIED:20250202T220556Z
UID:1100-1738504800-1738515600@davefleschner.com
SUMMARY:Rae Gordon Gospel Show
DESCRIPTION:
URL:https://davefleschner.com/event/rae-gordon-gospel-show/
LOCATION:Trail’s End Saloon\, 1320 Main St\, Oregon City\, OR\, United States
END:VEVENT
BEGIN:VEVENT
DTSTART;TZID=America/Los_Angeles:20250208T120000
DTEND;TZID=America/Los_Angeles:20250208T140000
DTSTAMP:20260424T160928
CREATED:20241215T220554Z
LAST-MODIFIED:20250207T221548Z
UID:834-1739016000-1739023200@davefleschner.com
SUMMARY:The Blues Cabaret/Burlesque Show
DESCRIPTION:Dave is teaming up with Bianca for an evening of Burlesque dancing and original blues.\nJoin with Google Meet: https://meet.google.com/gpm-tpst-grt\nLearn more about Meet at: https://support.google.com/a/users/answer/9282720
URL:https://davefleschner.com/event/the-blues-cabaret-burlesque-show/
LOCATION:Hōkū Events on Madison\, 1125 SE Madison St\, Portland\, OR\, 97214\, United States
END:VEVENT
BEGIN:VEVENT
DTSTART;TZID=America/Los_Angeles:20250214T190000
DTEND;TZID=America/Los_Angeles:20250214T220000
DTSTAMP:20260424T160928
CREATED:20241205T222837Z
LAST-MODIFIED:20250214T225122Z
UID:602-1739559600-1739570400@davefleschner.com
SUMMARY:Dave solo
DESCRIPTION:
URL:https://davefleschner.com/event/dave-solo-2/
LOCATION:Headlands Coastal Lodge & Spa\, 33000 Cape Kiwanda Dr\, Pacific City\, OR\, United States
END:VEVENT
BEGIN:VEVENT
DTSTART;TZID=America/Los_Angeles:20250220T210000
DTEND;TZID=America/Los_Angeles:20250220T235500
DTSTAMP:20260424T160928
CREATED:20241227T001252Z
LAST-MODIFIED:20250220T110122Z
UID:956-1740085200-1740095700@davefleschner.com
SUMMARY:Professional Midnight
DESCRIPTION:No Cover
URL:https://davefleschner.com/event/professional-midnight-2/
LOCATION:Starday Tavern\, 6517 SE Foster Rd\, Portland\, OR\, United States
END:VEVENT
BEGIN:VEVENT
DTSTART;TZID=America/Los_Angeles:20250221T200000
DTEND;TZID=America/Los_Angeles:20250221T230000
DTSTAMP:20260424T160928
CREATED:20241228T220558Z
LAST-MODIFIED:20250221T215254Z
UID:970-1740168000-1740178800@davefleschner.com
SUMMARY:Karen Maria Capo
DESCRIPTION:Blues Dancer Event for Rose City Blues
URL:https://davefleschner.com/event/karen-maria-capo/
LOCATION:OR
END:VEVENT
END:VCALENDAR