BEGIN:VCALENDAR
VERSION:2.0
PRODID:-//Dave Fleschner - ECPv6.15.20//NONSGML v1.0//EN
CALSCALE:GREGORIAN
METHOD:PUBLISH
X-WR-CALNAME:Dave Fleschner
X-ORIGINAL-URL:https://davefleschner.com
X-WR-CALDESC:Events for Dave Fleschner
REFRESH-INTERVAL;VALUE=DURATION:PT1H
X-Robots-Tag:noindex
X-PUBLISHED-TTL:PT1H
BEGIN:VTIMEZONE
TZID:America/Los_Angeles
BEGIN:DAYLIGHT
TZOFFSETFROM:-0800
TZOFFSETTO:-0700
TZNAME:PDT
DTSTART:20230312T100000
END:DAYLIGHT
BEGIN:STANDARD
TZOFFSETFROM:-0700
TZOFFSETTO:-0800
TZNAME:PST
DTSTART:20231105T090000
END:STANDARD
BEGIN:DAYLIGHT
TZOFFSETFROM:-0800
TZOFFSETTO:-0700
TZNAME:PDT
DTSTART:20240310T100000
END:DAYLIGHT
BEGIN:STANDARD
TZOFFSETFROM:-0700
TZOFFSETTO:-0800
TZNAME:PST
DTSTART:20241103T090000
END:STANDARD
BEGIN:DAYLIGHT
TZOFFSETFROM:-0800
TZOFFSETTO:-0700
TZNAME:PDT
DTSTART:20250309T100000
END:DAYLIGHT
BEGIN:STANDARD
TZOFFSETFROM:-0700
TZOFFSETTO:-0800
TZNAME:PST
DTSTART:20251102T090000
END:STANDARD
BEGIN:DAYLIGHT
TZOFFSETFROM:-0800
TZOFFSETTO:-0700
TZNAME:PDT
DTSTART:20260308T100000
END:DAYLIGHT
BEGIN:STANDARD
TZOFFSETFROM:-0700
TZOFFSETTO:-0800
TZNAME:PST
DTSTART:20261101T090000
END:STANDARD
END:VTIMEZONE
BEGIN:VEVENT
DTSTART;TZID=America/Los_Angeles:20250105T121500
DTEND;TZID=America/Los_Angeles:20250105T132000
DTSTAMP:20260424T191838
CREATED:20241209T085648Z
LAST-MODIFIED:20250105T010740Z
UID:661-1736079300-1736083200@davefleschner.com
SUMMARY:Journey to memphis
DESCRIPTION:The Final Cascade Blues Associations fundraiser to send me to Memphis! \nhttps://cascadebluesassociation.org/2024-j2m-finalists/
URL:https://davefleschner.com/event/journey-to-memphis/
LOCATION:Blue Diamond Bar & Grill\, 2016 NE Sandy Blvd\, Portland\, OR\, United States
END:VEVENT
BEGIN:VEVENT
DTSTART;TZID=America/Los_Angeles:20241227T190000
DTEND;TZID=America/Los_Angeles:20241227T230000
DTSTAMP:20260424T191838
CREATED:20241117T071234Z
LAST-MODIFIED:20241208T220913Z
UID:435-1735326000-1735340400@davefleschner.com
SUMMARY:Sabroso
DESCRIPTION:
URL:https://davefleschner.com/event/sabroso-2/
LOCATION:The 1905\, 830 N Shaver St\, Portland\, OR\, United States
END:VEVENT
BEGIN:VEVENT
DTSTART;TZID=America/Los_Angeles:20241221T180000
DTEND;TZID=America/Los_Angeles:20241221T220000
DTSTAMP:20260424T191838
CREATED:20241117T071234Z
LAST-MODIFIED:20241221T221842Z
UID:433-1734804000-1734818400@davefleschner.com
SUMMARY:Fleschtone Records Presents!
DESCRIPTION:Join with Google Meet: https://meet.google.com/tjc-yjos-zsr\nLearn more about Meet at: https://support.google.com/a/users/answer/9282720
URL:https://davefleschner.com/event/fleschtone-records-presents/
LOCATION:Trinidad Town Hall\, 409 Trinity St\, Trinidad\, CA\, United States
ATTACH;FMTTYPE=image/jpeg:https://davefleschner.com/wp-content/uploads/2024/12/Town-Hall-Concert-REV1-11_20__24-e1734267954271.jpg
ORGANIZER;CN="Dave Fleschner":MAILTO:fleschtonerecords@gmail.com
END:VEVENT
BEGIN:VEVENT
DTSTART;TZID=America/Los_Angeles:20241215T160000
DTEND;TZID=America/Los_Angeles:20241215T170000
DTSTAMP:20260424T191838
CREATED:20241202T212841Z
LAST-MODIFIED:20241215T220554Z
UID:593-1734278400-1734282000@davefleschner.com
SUMMARY:Bacbeat recitals
DESCRIPTION:
URL:https://davefleschner.com/event/bacbeat-recitals-2/
END:VEVENT
BEGIN:VEVENT
DTSTART;TZID=America/Los_Angeles:20241214T190000
DTEND;TZID=America/Los_Angeles:20241214T220000
DTSTAMP:20260424T191838
CREATED:20241117T071234Z
LAST-MODIFIED:20241214T220517Z
UID:431-1734202800-1734213600@davefleschner.com
SUMMARY:Idle poets
DESCRIPTION:
URL:https://davefleschner.com/event/idle-poets-2/
LOCATION:Le Coupe Champagne and Wine Bar\, 3332 SW Corbett Ave\, Portland\, OR\, United States
END:VEVENT
BEGIN:VEVENT
DTSTART;TZID=America/Los_Angeles:20241214T160000
DTEND;TZID=America/Los_Angeles:20241214T170000
DTSTAMP:20260424T191838
CREATED:20241202T212841Z
LAST-MODIFIED:20241214T220517Z
UID:592-1734192000-1734195600@davefleschner.com
SUMMARY:Bacbeat recitals
DESCRIPTION:
URL:https://davefleschner.com/event/bacbeat-recitals/
END:VEVENT
BEGIN:VEVENT
DTSTART;TZID=America/Los_Angeles:20241213T210000
DTEND;TZID=America/Los_Angeles:20241213T230000
DTSTAMP:20260424T191838
CREATED:20241117T071234Z
LAST-MODIFIED:20241213T220441Z
UID:430-1734123600-1734130800@davefleschner.com
SUMMARY:Bundy band
DESCRIPTION:
URL:https://davefleschner.com/event/bundy-band/
LOCATION:Dublin Pub\, 6821 SW Beaverton-Hillsdale Hwy\, Portland\, OR\, United States
END:VEVENT
BEGIN:VEVENT
DTSTART;TZID=America/Los_Angeles:20241207T190000
DTEND;TZID=America/Los_Angeles:20241207T220000
DTSTAMP:20260424T191838
CREATED:20241119T000915Z
LAST-MODIFIED:20241207T202837Z
UID:549-1733598000-1733608800@davefleschner.com
SUMMARY:Craig
DESCRIPTION:
URL:https://davefleschner.com/event/craig/
LOCATION:13 Coins Vancouver\, 3801 NW Columbia St\, Vancouver\, WA\, United States
END:VEVENT
BEGIN:VEVENT
DTSTART;TZID=America/Los_Angeles:20241206T213000
DTEND;TZID=America/Los_Angeles:20241206T233000
DTSTAMP:20260424T191838
CREATED:20241117T071234Z
LAST-MODIFIED:20241206T222836Z
UID:428-1733520600-1733527800@davefleschner.com
SUMMARY:Sabroso
DESCRIPTION:
URL:https://davefleschner.com/event/sabroso/
LOCATION:Alberta Street Pub\, 1036 NE Alberta St\, Portland\, OR\, United States
END:VEVENT
BEGIN:VEVENT
DTSTART;TZID=America/Los_Angeles:20241122T190000
DTEND;TZID=America/Los_Angeles:20241122T220000
DTSTAMP:20260424T191838
CREATED:20241117T055348Z
LAST-MODIFIED:20241122T091837Z
UID:412-1732302000-1732312800@davefleschner.com
SUMMARY:Idle Poets
DESCRIPTION:
URL:https://davefleschner.com/event/idle-poets/
LOCATION:Le Coupe Champagne and Wine Bar\, 3332 SW Corbett Ave\, Portland\, OR\, United States
END:VEVENT
BEGIN:VEVENT
DTSTART;TZID=America/Los_Angeles:20241116T190000
DTEND;TZID=America/Los_Angeles:20241117T220000
DTSTAMP:20260424T191838
CREATED:20241117T055348Z
LAST-MODIFIED:20241117T071234Z
UID:410-1731783600-1731880800@davefleschner.com
SUMMARY:Idles poets
DESCRIPTION:
URL:https://davefleschner.com/event/idles-poets/
LOCATION:Smeads Pub\, 3395 Evergreen Way\, Washougal\, WA\, United States
END:VEVENT
END:VCALENDAR