BEGIN:VCALENDAR
VERSION:2.0
PRODID:-//Dave Fleschner - ECPv6.15.20//NONSGML v1.0//EN
CALSCALE:GREGORIAN
METHOD:PUBLISH
X-WR-CALNAME:Dave Fleschner
X-ORIGINAL-URL:https://davefleschner.com
X-WR-CALDESC:Events for Dave Fleschner
REFRESH-INTERVAL;VALUE=DURATION:PT1H
X-Robots-Tag:noindex
X-PUBLISHED-TTL:PT1H
BEGIN:VTIMEZONE
TZID:America/Los_Angeles
BEGIN:DAYLIGHT
TZOFFSETFROM:-0800
TZOFFSETTO:-0700
TZNAME:PDT
DTSTART:20250309T100000
END:DAYLIGHT
BEGIN:STANDARD
TZOFFSETFROM:-0700
TZOFFSETTO:-0800
TZNAME:PST
DTSTART:20251102T090000
END:STANDARD
BEGIN:DAYLIGHT
TZOFFSETFROM:-0800
TZOFFSETTO:-0700
TZNAME:PDT
DTSTART:20260308T100000
END:DAYLIGHT
BEGIN:STANDARD
TZOFFSETFROM:-0700
TZOFFSETTO:-0800
TZNAME:PST
DTSTART:20261101T090000
END:STANDARD
BEGIN:DAYLIGHT
TZOFFSETFROM:-0800
TZOFFSETTO:-0700
TZNAME:PDT
DTSTART:20270314T100000
END:DAYLIGHT
BEGIN:STANDARD
TZOFFSETFROM:-0700
TZOFFSETTO:-0800
TZNAME:PST
DTSTART:20271107T090000
END:STANDARD
END:VTIMEZONE
BEGIN:VEVENT
DTSTART;TZID=America/Los_Angeles:20260402T190000
DTEND;TZID=America/Los_Angeles:20260402T213000
DTSTAMP:20260423T234540
CREATED:20260124T233156Z
LAST-MODIFIED:20260326T065242Z
UID:5708-1775156400-1775165400@davefleschner.com
SUMMARY:Dave Fleschner with Alan Hager\, Dan Gildea and Edwin Coleman III
DESCRIPTION:Tickets: $15 \nCLICK HERE TO BUY TICKETS!!!  \nThe Dave Fleschner Trio (Dan Gildea & Edwin Coleman III) with special guest Alan Hager \nDave is back (from touring with Tommy Castro & the Painkillers) for a quick show! \nAlan first picked up a guitar at age ten and became a blues and jazz prodigy. He was playing local clubs as a teenager before heading to Boston’s Berklee School Of Music\, where he studied under the tutelage of jazz guitar legend Pat Metheny. A year later he was studying classical music at the famed New England Conservatory of Music\, where he graduated in 1979. During the 1980s he toured as part of a classical guitar duo and took up teaching\, which he still does. But he never fell out of love with the blues\, especially the old Delta sounds of Charlie Patton\, Tommy Johnson and Skip James. \nWith a 40 year long performance career\, and a 25 year career in music education\, Dave Fleschner is passionate about sharing his love of music with the younger generation.\nDave has played music with B.B. King\, Steve Miller\, The Pointer Sisters\, Bobby Rush\, Kingfish and toured the world playing blues and roots festivals with Curtis Salgado\, John Nemeth\, Karen Lovely\, Earl Thomas and United by Music America.\nhttps://davefleschner.com/
URL:https://davefleschner.com/event/dave-fleschners-blues-cabaret-2/
LOCATION:Hōkū Events on Madison\, 1125 SE Madison St\, Portland\, OR\, 97214\, United States
END:VEVENT
BEGIN:VEVENT
DTSTART;TZID=America/Los_Angeles:20260401T170000
DTEND;TZID=America/Los_Angeles:20260401T200000
DTSTAMP:20260423T234540
CREATED:20260226T230104Z
LAST-MODIFIED:20260326T070540Z
UID:5847-1775062800-1775073600@davefleschner.com
SUMMARY:Solo
DESCRIPTION:  \n  \n  \n  \n  \n  \n  \nhttps://www.facebook.com/events/916483604687477
URL:https://davefleschner.com/event/solo-6/
LOCATION:Meridian Restaurant & Bar\, 42800 Pacific Dr\, Cloverdale\, OR\, United States
END:VEVENT
BEGIN:VEVENT
DTSTART;TZID=America/Los_Angeles:20260315T000000
DTEND;TZID=America/Los_Angeles:20260315T235959
DTSTAMP:20260423T234540
CREATED:20260219T221238Z
LAST-MODIFIED:20260219T221238Z
UID:5782-1773532800-1773619199@davefleschner.com
SUMMARY:Tommy Castro and The Painkillers
DESCRIPTION:For Tickets and Info check:https://www.tommycastro.com/
URL:https://davefleschner.com/event/tommy-castro-and-the-painkillers-16/
LOCATION:The Coda House\, Joblin\, MO
END:VEVENT
BEGIN:VEVENT
DTSTART;TZID=America/Los_Angeles:20260314T200000
DTEND;TZID=America/Los_Angeles:20260314T213000
DTSTAMP:20260423T234540
CREATED:20260219T221238Z
LAST-MODIFIED:20260219T221238Z
UID:5784-1773518400-1773523800@davefleschner.com
SUMMARY:Tommy Castro and The Painkillers
DESCRIPTION:For Tickets and Info check:https://www.tommycastro.com/
URL:https://davefleschner.com/event/tommy-castro-and-the-painkillers-17/
LOCATION:Knuckeheads
END:VEVENT
BEGIN:VEVENT
DTSTART;TZID=America/Los_Angeles:20260313T200000
DTEND;TZID=America/Los_Angeles:20260313T213000
DTSTAMP:20260423T234540
CREATED:20260219T221238Z
LAST-MODIFIED:20260219T221238Z
UID:5780-1773432000-1773437400@davefleschner.com
SUMMARY:Tommy Castro and The Painkillers
DESCRIPTION:For Tickets and Info check:https://www.tommycastro.com/
URL:https://davefleschner.com/event/tommy-castro-and-the-painkillers-15/
LOCATION:The Old Rock House\, St louis
END:VEVENT
BEGIN:VEVENT
DTSTART;TZID=America/Los_Angeles:20260312T190000
DTEND;TZID=America/Los_Angeles:20260312T210000
DTSTAMP:20260423T234540
CREATED:20260219T221237Z
LAST-MODIFIED:20260219T221237Z
UID:5777-1773342000-1773349200@davefleschner.com
SUMMARY:Tommy Castro and The Painkillers
DESCRIPTION:For Tickets and Info check:https://www.tommycastro.com/
URL:https://davefleschner.com/event/tommy-castro-and-the-painkillers-13/
LOCATION:The Washington\, 306 Washington St\, Burlington\, IA\, United States
END:VEVENT
BEGIN:VEVENT
DTSTART;TZID=America/Los_Angeles:20260311T190000
DTEND;TZID=America/Los_Angeles:20260311T203000
DTSTAMP:20260423T234540
CREATED:20260219T221237Z
LAST-MODIFIED:20260219T221237Z
UID:5774-1773255600-1773261000@davefleschner.com
SUMMARY:Tommy Castro and The Painkillers
DESCRIPTION:For Tickets and Info check:https://www.tommycastro.com/
URL:https://davefleschner.com/event/tommy-castro-and-the-painkillers-11/
LOCATION:xBk Live\, 1159 24th St\, Des Moines\, IA\, United States
END:VEVENT
BEGIN:VEVENT
DTSTART;TZID=America/Los_Angeles:20260310T000000
DTEND;TZID=America/Los_Angeles:20260310T235959
DTSTAMP:20260423T234540
CREATED:20260219T221237Z
LAST-MODIFIED:20260219T221237Z
UID:5772-1773100800-1773187199@davefleschner.com
SUMMARY:Tommy Castro and The Painkillers
DESCRIPTION:For Tickets and Info check:https://www.tommycastro.com/
URL:https://davefleschner.com/event/tommy-castro-and-the-painkillers-10/
LOCATION:Zoo Bar\, 136 N 14th St\, Lincoln\, NE\, United States
END:VEVENT
BEGIN:VEVENT
DTSTART;TZID=America/Los_Angeles:20260308T190000
DTEND;TZID=America/Los_Angeles:20260308T203000
DTSTAMP:20260423T234540
CREATED:20260219T221237Z
LAST-MODIFIED:20260219T221237Z
UID:5770-1772996400-1773001800@davefleschner.com
SUMMARY:Tommy Castro and The Painkillers
DESCRIPTION:For Tickets and Info check:https://www.tommycastro.com/
URL:https://davefleschner.com/event/tommy-castro-and-the-painkillers-9/
LOCATION:Fort Collins Armory\, 314 E Mountain Ave\, Fort Collins\, CO\, United States
END:VEVENT
BEGIN:VEVENT
DTSTART;TZID=America/Los_Angeles:20260307T190000
DTEND;TZID=America/Los_Angeles:20260307T210000
DTSTAMP:20260423T234540
CREATED:20260219T221237Z
LAST-MODIFIED:20260219T221237Z
UID:5767-1772910000-1772917200@davefleschner.com
SUMMARY:Tommy Castro and The Painkillers
DESCRIPTION:For Tickets and Info check:https://www.tommycastro.com/
URL:https://davefleschner.com/event/tommy-castro-and-the-painkillers-7/
LOCATION:Stargazers Theatre & Event Center\, 10 S Parkside Dr\, Colorado Springs\, CO\, United States
END:VEVENT
BEGIN:VEVENT
DTSTART;TZID=America/Los_Angeles:20260306T193000
DTEND;TZID=America/Los_Angeles:20260306T210000
DTSTAMP:20260423T234540
CREATED:20260219T221237Z
LAST-MODIFIED:20260219T221237Z
UID:5765-1772825400-1772830800@davefleschner.com
SUMMARY:Tommy Castro and The Painkillers
DESCRIPTION:For Tickets and Info check:https://www.tommycastro.com/
URL:https://davefleschner.com/event/tommy-castro-and-the-painkillers-6/
LOCATION:The Sherbino\, 604 Clinton St\, Ridgway\, CO\, United States
END:VEVENT
BEGIN:VEVENT
DTSTART;TZID=America/Los_Angeles:20260305T200000
DTEND;TZID=America/Los_Angeles:20260305T213000
DTSTAMP:20260423T234540
CREATED:20260219T221237Z
LAST-MODIFIED:20260219T221237Z
UID:5763-1772740800-1772746200@davefleschner.com
SUMMARY:Tommy Castro and the Painkillers
DESCRIPTION:For Tickets and Info check:https://www.tommycastro.com/
URL:https://davefleschner.com/event/tommy-castro-and-the-painkillers-5/
LOCATION:Mesa Theater\, 538 Main St\, Grand Junction\, CO\, United States
END:VEVENT
BEGIN:VEVENT
DTSTART;TZID=America/Los_Angeles:20260303T190000
DTEND;TZID=America/Los_Angeles:20260303T203000
DTSTAMP:20260423T234540
CREATED:20260219T221237Z
LAST-MODIFIED:20260219T221237Z
UID:5761-1772564400-1772569800@davefleschner.com
SUMMARY:Tommy Castro and the Painkillers
DESCRIPTION:For Tickets and Info check:https://www.tommycastro.com/
URL:https://davefleschner.com/event/tommy-castro-and-the-painkillers-4/
LOCATION:The Sapphire Room\, 2900 Chinden Blvd\, Boise\, ID\, United States
END:VEVENT
BEGIN:VEVENT
DTSTART;TZID=America/Los_Angeles:20260301T193000
DTEND;TZID=America/Los_Angeles:20260301T210000
DTSTAMP:20260423T234540
CREATED:20260219T221237Z
LAST-MODIFIED:20260219T221237Z
UID:5759-1772393400-1772398800@davefleschner.com
SUMMARY:Tommy Castro and The Painkillers
DESCRIPTION:For Tickets and Info check:https://www.tommycastro.com/
URL:https://davefleschner.com/event/tommy-castro-and-the-painkillers-3/
LOCATION:Nashville Social Club Carson City\, 1105 S Carson St\, Carson City\, NV\, United States
END:VEVENT
BEGIN:VEVENT
DTSTART;TZID=America/Los_Angeles:20260228T200000
DTEND;TZID=America/Los_Angeles:20260228T220000
DTSTAMP:20260423T234540
CREATED:20260219T221237Z
LAST-MODIFIED:20260219T221237Z
UID:5757-1772308800-1772316000@davefleschner.com
SUMMARY:Tommy Castro and The Painkillers
DESCRIPTION:For Tickets and Info check:https://www.tommycastro.com/
URL:https://davefleschner.com/event/tommy-castro-and-the-painkillers-2/
LOCATION:Club Fox\, 2209 Broadway St\, Redwood City\, CA\, United States
END:VEVENT
BEGIN:VEVENT
DTSTART;TZID=America/Los_Angeles:20260227T193000
DTEND;TZID=America/Los_Angeles:20260227T213000
DTSTAMP:20260423T234540
CREATED:20260219T221237Z
LAST-MODIFIED:20260219T221237Z
UID:5755-1772220600-1772227800@davefleschner.com
SUMMARY:Tommy Castro and the Painkillers
DESCRIPTION:For Tickets and Info check:https://www.tommycastro.com/
URL:https://davefleschner.com/event/tommy-castro-and-the-painkillers/
LOCATION:Almost Famous Wine\, 2271 S Vasco Rd\, Livermore\, CA\, United States
END:VEVENT
BEGIN:VEVENT
DTSTART;TZID=America/Los_Angeles:20260220T210000
DTEND;TZID=America/Los_Angeles:20260220T230000
DTSTAMP:20260423T234540
CREATED:20260219T221237Z
LAST-MODIFIED:20260219T221237Z
UID:5753-1771621200-1771628400@davefleschner.com
SUMMARY:Johnny Wheels and The Swamp Donkeys
DESCRIPTION:https://jubitz.com/ponderosa-lounge-country-bar/
URL:https://davefleschner.com/event/johnny-wheels-and-the-swamp-donkeys/
LOCATION:Ponderosa Lounge & Grill\, 10350 N Vancouver Way\, Portland\, OR\, United States
END:VEVENT
BEGIN:VEVENT
DTSTART;TZID=America/Los_Angeles:20260214T180000
DTEND;TZID=America/Los_Angeles:20260214T210000
DTSTAMP:20260423T234540
CREATED:20251130T235614Z
LAST-MODIFIED:20251130T235614Z
UID:5589-1771092000-1771102800@davefleschner.com
SUMMARY:Lloyd Jones
DESCRIPTION:
URL:https://davefleschner.com/event/lloyd-jones-33/
LOCATION:Spirits Pub\, 4037 NE Cully Blvd\, Portland\, OR\, United States
END:VEVENT
BEGIN:VEVENT
DTSTART;TZID=America/Los_Angeles:20260212T190000
DTEND;TZID=America/Los_Angeles:20260212T213000
DTSTAMP:20260423T234540
CREATED:20260119T232501Z
LAST-MODIFIED:20260131T104503Z
UID:5696-1770922800-1770931800@davefleschner.com
SUMMARY:The Dave Fleschner Trio Featuring Alan Hager
DESCRIPTION:It’s been a while since Alan Hager and I shared the stage\, so I’m thrilled to announce that he’ll be my guest at:\nHōkū Events on Madison\nFebruary 12th at 7:00 PM.\n\n\n\nYou might know Alan as the guitarist with Curtis Salgado\, but before he went on the road with Curtis\, we had a duo with a residency at O’Connors Vault. We recorded an album there that you can find on my website:\n\n\n\nhttps://davefleschner.com/product/the-hager-fleschner-duo-live-from-the-vault/Davefleschner.com\n\n\n\nI’m beyond excited for this rare chance to play with the GOAT.\n\n\n\nEdwin Coleman III is going to be adding his artistry to the mix\, and my good friend\, Dan Gildea\, will be on guitar as well. If you want to see two different guitar masters at work\, prepare to have your mind expanded.\n\n\nMark your calendars!\n\n\n\n#blues #jazz #portlandmusic #improvisationalmusic #hagerfleschnerduo
URL:https://davefleschner.com/event/the-dave-fleschner-trio-3/
LOCATION:Hōkū Events on Madison\, 1125 SE Madison St\, Portland\, OR\, 97214\, United States
END:VEVENT
BEGIN:VEVENT
DTSTART;TZID=America/Los_Angeles:20260205T190000
DTEND;TZID=America/Los_Angeles:20260205T220000
DTSTAMP:20260423T234540
CREATED:20260103T221435Z
LAST-MODIFIED:20260103T221435Z
UID:5660-1770318000-1770328800@davefleschner.com
SUMMARY:Idle poets
DESCRIPTION:
URL:https://davefleschner.com/event/idle-poets-21/
LOCATION:Conway’s House Of Jazz\, 16100 SE 82nd Dr\, Clackamas\, OR\, United States
END:VEVENT
BEGIN:VEVENT
DTSTART;TZID=America/Los_Angeles:20260124T190000
DTEND;TZID=America/Los_Angeles:20260124T200000
DTSTAMP:20260423T234540
CREATED:20251203T220025Z
LAST-MODIFIED:20251203T220025Z
UID:5597-1769281200-1769284800@davefleschner.com
SUMMARY:Idle Poets
DESCRIPTION:
URL:https://davefleschner.com/event/idle-poets-19/
LOCATION:48 North Pizzeria\, 6500 SW Virginia Ave\, Portland\, OR\, United States
END:VEVENT
BEGIN:VEVENT
DTSTART;TZID=America/Los_Angeles:20260123T210000
DTEND;TZID=America/Los_Angeles:20260123T230000
DTSTAMP:20260423T234540
CREATED:20260104T084057Z
LAST-MODIFIED:20260104T084057Z
UID:5673-1769202000-1769209200@davefleschner.com
SUMMARY:Rocktet\, Scouting for Recording\, join me to hear them!
DESCRIPTION:
URL:https://davefleschner.com/event/rocktet-scouting-for-recording-join-me-to-hear-them/
LOCATION:Havalina\, 8927 N Lombard St\, Portland\, OR\, United States
END:VEVENT
BEGIN:VEVENT
DTSTART;TZID=America/Los_Angeles:20260116T230000
DTEND;TZID=America/Los_Angeles:20260117T010000
DTSTAMP:20260423T234540
CREATED:20260104T084057Z
LAST-MODIFIED:20260104T084224Z
UID:5671-1768604400-1768611600@davefleschner.com
SUMMARY:Post IBC Jam with Jonn Del Toro
DESCRIPTION:Hosting the Nightly Jam with Jonn and Timmer Blakely after the competition at Club 152.
URL:https://davefleschner.com/event/post-ibc-jam-with-jon-del-toro-3/
LOCATION:152 Beale St\, Memphis\, TN\, United States
END:VEVENT
BEGIN:VEVENT
DTSTART;TZID=America/Los_Angeles:20260116T180000
DTEND;TZID=America/Los_Angeles:20260116T190000
DTSTAMP:20260423T234540
CREATED:20260104T084057Z
LAST-MODIFIED:20260104T084057Z
UID:5670-1768586400-1768590000@davefleschner.com
SUMMARY:SleeperWave Youth Showcase in Memphis
DESCRIPTION:SleeperWave\, the Cascade Blues Associations representative at the IBC’s performs in memphis.  This is a youth band that Dave has mentored.  Check the IBC schedule the week of for exact performance time.
URL:https://davefleschner.com/event/sleeperwave-youth-showcase-in-memphis/
LOCATION:Memphis
END:VEVENT
BEGIN:VEVENT
DTSTART;TZID=America/Los_Angeles:20260115T230000
DTEND;TZID=America/Los_Angeles:20260116T010000
DTSTAMP:20260423T234540
CREATED:20260104T084057Z
LAST-MODIFIED:20260104T084158Z
UID:5668-1768518000-1768525200@davefleschner.com
SUMMARY:Post IBC Jam with Jonn Del Toro
DESCRIPTION:Hosting the Nightly Jam with Jonn and Timmer Blakely after the competition at Club 152.
URL:https://davefleschner.com/event/post-ibc-jam-with-jon-del-toro-2/
LOCATION:152 Beale St\, Memphis\, TN\, United States
END:VEVENT
BEGIN:VEVENT
DTSTART;TZID=America/Los_Angeles:20260114T230000
DTEND;TZID=America/Los_Angeles:20260115T010000
DTSTAMP:20260423T234540
CREATED:20260104T084057Z
LAST-MODIFIED:20260104T084136Z
UID:5667-1768431600-1768438800@davefleschner.com
SUMMARY:Post IBC Jam with Jonn Del Toro
DESCRIPTION:Hosting the Nightly Jam with Jonn and Timmer Blakely after the competition at Club 152.
URL:https://davefleschner.com/event/post-ibc-jam-with-jon-del-toro/
LOCATION:152 Beale St\, Memphis\, TN\, United States
END:VEVENT
BEGIN:VEVENT
DTSTART;TZID=America/Los_Angeles:20260111T170000
DTEND;TZID=America/Los_Angeles:20260111T200000
DTSTAMP:20260423T234540
CREATED:20251230T210314Z
LAST-MODIFIED:20251230T210314Z
UID:5643-1768150800-1768161600@davefleschner.com
SUMMARY:CBA Allstars Fundraiser for Nikki Jones and Lilla
DESCRIPTION:
URL:https://davefleschner.com/event/cba-allstars-fundraiser-for-nikki-jones-and-lilla/
LOCATION:Blue Diamond Bar & Grill\, 2016 NE Sandy Blvd\, Portland\, OR\, United States
END:VEVENT
BEGIN:VEVENT
DTSTART;TZID=America/Los_Angeles:20260110T180000
DTEND;TZID=America/Los_Angeles:20260110T210000
DTSTAMP:20260423T234540
CREATED:20251130T235614Z
LAST-MODIFIED:20251130T235614Z
UID:5588-1768068000-1768078800@davefleschner.com
SUMMARY:Lloyd Jones
DESCRIPTION:
URL:https://davefleschner.com/event/lloyd-jones-32/
LOCATION:Spirits Pub\, 4037 NE Cully Blvd\, Portland\, OR\, United States
END:VEVENT
BEGIN:VEVENT
DTSTART;TZID=America/Los_Angeles:20260108T190000
DTEND;TZID=America/Los_Angeles:20260108T213000
DTSTAMP:20260423T234540
CREATED:20251230T210314Z
LAST-MODIFIED:20251230T212019Z
UID:5642-1767898800-1767907800@davefleschner.com
SUMMARY:The Dave Fleschner Trio Plays Blues\, Sleeperwave Opening
DESCRIPTION:https://aftontickets.com/event/buyticket/1qjwvp8197 \n \nSleeper Wave\, the Cascade Blues Association’s representatives at the International Blues Challenge in Memphis opens for The Dave Fleschner Trio. \nThe Dave Fleschner Trio will be playing blues classics as well as the bluesier compositions from Dave Fleschner’s Catalogue. \nThis will be your last chance to catch Sleeper Wave and support them before they head to Memphis to represent Portland. \nHōkū Events on Madison\n1225 SE Madison\nPortland\, OR\nThursday\, January 8 at 7:00 PM\, Doors at 6:30 \n$15 \nThe Dave Fleschner Trio: \n◦ Very inventive and swingin’ – Mike Finnigan\n◦ Dave is . . killin’ it on there. The songs are great! – Curtis Salgado \nDave\, Dan Gildea and Charlie Doggett have been making music together for decades. This trio begins with the vehicles for improvisation – a range of original tunes from Dave’s catalogue\, as well as a variety of jazz classics. Well versed in the old school organ trio tradition of Jimmy Smith\, Jack McDuff\, Groove Holmes and Don Padderson\, the Dave Fleschner trio has a modern approach to this canon\, drawing inspiration from artists as varied as Herbie Hancock and Ornette Coleman. You’ll find funk\, soul\, blues and world music influences in their special blend of groove-based improvisation.
URL:https://davefleschner.com/event/the-dave-fleschner-trio-plays-blues-sleeperwave-opening/
LOCATION:Hōkū Events on Madison\, 1125 SE Madison St\, Portland\, OR\, 97214\, United States
END:VEVENT
BEGIN:VEVENT
DTSTART;TZID=America/Los_Angeles:20260107T183000
DTEND;TZID=America/Los_Angeles:20260107T210000
DTSTAMP:20260423T234540
CREATED:20251230T210430Z
LAST-MODIFIED:20251230T210430Z
UID:5646-1767810600-1767819600@davefleschner.com
SUMMARY:Dave Fleschner Solo at Cascade Blues Association Monthly Meeting
DESCRIPTION:
URL:https://davefleschner.com/event/dave-fleschner-solo-at-cascade-blues-association-monthly-meeting/
LOCATION:Mekong Bistro\, 8600 NE Siskiyou St\, Portland\, OR\, United States
END:VEVENT
END:VCALENDAR