BEGIN:VCALENDAR
VERSION:2.0
PRODID:-//Dave Fleschner - ECPv6.15.20//NONSGML v1.0//EN
CALSCALE:GREGORIAN
METHOD:PUBLISH
X-WR-CALNAME:Dave Fleschner
X-ORIGINAL-URL:https://davefleschner.com
X-WR-CALDESC:Events for Dave Fleschner
REFRESH-INTERVAL;VALUE=DURATION:PT1H
X-Robots-Tag:noindex
X-PUBLISHED-TTL:PT1H
BEGIN:VTIMEZONE
TZID:America/Los_Angeles
BEGIN:DAYLIGHT
TZOFFSETFROM:-0800
TZOFFSETTO:-0700
TZNAME:PDT
DTSTART:20240310T100000
END:DAYLIGHT
BEGIN:STANDARD
TZOFFSETFROM:-0700
TZOFFSETTO:-0800
TZNAME:PST
DTSTART:20241103T090000
END:STANDARD
BEGIN:DAYLIGHT
TZOFFSETFROM:-0800
TZOFFSETTO:-0700
TZNAME:PDT
DTSTART:20250309T100000
END:DAYLIGHT
BEGIN:STANDARD
TZOFFSETFROM:-0700
TZOFFSETTO:-0800
TZNAME:PST
DTSTART:20251102T090000
END:STANDARD
BEGIN:DAYLIGHT
TZOFFSETFROM:-0800
TZOFFSETTO:-0700
TZNAME:PDT
DTSTART:20260308T100000
END:DAYLIGHT
BEGIN:STANDARD
TZOFFSETFROM:-0700
TZOFFSETTO:-0800
TZNAME:PST
DTSTART:20261101T090000
END:STANDARD
END:VTIMEZONE
BEGIN:VEVENT
DTSTART;TZID=America/Los_Angeles:20251223T200000
DTEND;TZID=America/Los_Angeles:20251223T220000
DTSTAMP:20260424T043539
CREATED:20250930T220103Z
LAST-MODIFIED:20250930T220103Z
UID:5475-1766520000-1766527200@davefleschner.com
SUMMARY:Duo with Karen-Maria Capo
DESCRIPTION:
URL:https://davefleschner.com/event/duo-with-karen-maria-capo-4/
LOCATION:Hōkū Events on Madison\, 1125 SE Madison St\, Portland\, OR\, 97214\, United States
END:VEVENT
BEGIN:VEVENT
DTSTART;TZID=America/Los_Angeles:20251220T000000
DTEND;TZID=America/Los_Angeles:20251220T235959
DTSTAMP:20260424T043539
CREATED:20250930T220102Z
LAST-MODIFIED:20250930T220102Z
UID:5474-1766188800-1766275199@davefleschner.com
SUMMARY:Trinidad Town Hall Xmas
DESCRIPTION:
URL:https://davefleschner.com/event/trinidad-town-hall-xmas/
END:VEVENT
BEGIN:VEVENT
DTSTART;TZID=America/Los_Angeles:20251218T170000
DTEND;TZID=America/Los_Angeles:20251218T190000
DTSTAMP:20260424T043539
CREATED:20251015T225114Z
LAST-MODIFIED:20251015T225114Z
UID:5517-1766077200-1766084400@davefleschner.com
SUMMARY:Solo
DESCRIPTION:
URL:https://davefleschner.com/event/solo-4/
LOCATION:The Inn At Spanish Head Resort Hotel\, 3655 SW Hwy 101\, Lincoln City\, OR\, United States
END:VEVENT
BEGIN:VEVENT
DTSTART;TZID=America/Los_Angeles:20251217T170000
DTEND;TZID=America/Los_Angeles:20251217T200000
DTSTAMP:20260424T043539
CREATED:20251015T225114Z
LAST-MODIFIED:20251015T225114Z
UID:5516-1765990800-1766001600@davefleschner.com
SUMMARY:Solo
DESCRIPTION:
URL:https://davefleschner.com/event/solo-3/
LOCATION:Headlands Coastal Lodge & Spa\, 33000 Cape Kiwanda Dr\, Pacific City\, OR\, United States
END:VEVENT
BEGIN:VEVENT
DTSTART;TZID=America/Los_Angeles:20251213T180000
DTEND;TZID=America/Los_Angeles:20251213T210000
DTSTAMP:20260424T043539
CREATED:20251015T225113Z
LAST-MODIFIED:20251015T225113Z
UID:5515-1765648800-1765659600@davefleschner.com
SUMMARY:Lloyd Jones
DESCRIPTION:
URL:https://davefleschner.com/event/lloyd-jones-31/
LOCATION:Spirits Pub\, 4037 NE Cully Blvd\, Portland\, OR\, United States
END:VEVENT
BEGIN:VEVENT
DTSTART;TZID=America/Los_Angeles:20251211T190000
DTEND;TZID=America/Los_Angeles:20251211T213000
DTSTAMP:20260424T043539
CREATED:20250930T220102Z
LAST-MODIFIED:20251019T031413Z
UID:5473-1765479600-1765488600@davefleschner.com
SUMMARY:The Dave Fleschner Trio feat. Nandi Johannes
DESCRIPTION:https://aftontickets.com/event/buyticket/o69n732mx3/the-dave-fleschner-tro-with-guest-nandi-johaness
URL:https://davefleschner.com/event/the-dave-fleschner-trio-feat-nandi-johannes/
LOCATION:Hōkū Events on Madison\, 1125 SE Madison St\, Portland\, OR\, 97214\, United States
END:VEVENT
BEGIN:VEVENT
DTSTART;TZID=America/Los_Angeles:20251210T190000
DTEND;TZID=America/Los_Angeles:20251210T220000
DTSTAMP:20260424T043539
CREATED:20251002T220908Z
LAST-MODIFIED:20251002T220908Z
UID:5486-1765393200-1765404000@davefleschner.com
SUMMARY:Bundy Band
DESCRIPTION:
URL:https://davefleschner.com/event/bundy-band-3/
LOCATION:skyline tavern portland
END:VEVENT
BEGIN:VEVENT
DTSTART;TZID=America/Los_Angeles:20251205T000000
DTEND;TZID=America/Los_Angeles:20251205T235959
DTSTAMP:20260424T043539
CREATED:20251010T223027Z
LAST-MODIFIED:20251010T223027Z
UID:5503-1764892800-1764979199@davefleschner.com
SUMMARY:United ByMusic America
DESCRIPTION:
URL:https://davefleschner.com/event/united-bymusic-america/
LOCATION:University Place\, WA\, USA
END:VEVENT
BEGIN:VEVENT
DTSTART;TZID=America/Los_Angeles:20251202T200000
DTEND;TZID=America/Los_Angeles:20251202T220000
DTSTAMP:20260424T043539
CREATED:20250909T122602Z
LAST-MODIFIED:20250909T122602Z
UID:4787-1764705600-1764712800@davefleschner.com
SUMMARY:Jam with Karen-Maria Capo/J.T. Thomas and the Blues Dancers
DESCRIPTION:
URL:https://davefleschner.com/event/jam-with-karen-maria-capo-j-t-thomas-and-the-blues-dancers-3/
LOCATION:Hōkū Events on Madison\, 1125 SE Madison St\, Portland\, OR\, 97214\, United States
END:VEVENT
BEGIN:VEVENT
DTSTART;TZID=America/Los_Angeles:20251125T200000
DTEND;TZID=America/Los_Angeles:20251125T220000
DTSTAMP:20260424T043539
CREATED:20250930T220101Z
LAST-MODIFIED:20250930T220101Z
UID:5472-1764100800-1764108000@davefleschner.com
SUMMARY:Duo with Karen-Maria Capo
DESCRIPTION:
URL:https://davefleschner.com/event/duo-with-karen-maria-capo-3/
LOCATION:Hōkū Events on Madison\, 1125 SE Madison St\, Portland\, OR\, 97214\, United States
END:VEVENT
BEGIN:VEVENT
DTSTART;TZID=America/Los_Angeles:20251122T183000
DTEND;TZID=America/Los_Angeles:20251122T193000
DTSTAMP:20260424T043539
CREATED:20250730T223926Z
LAST-MODIFIED:20250730T223926Z
UID:3309-1763836200-1763839800@davefleschner.com
SUMMARY:Sabroso
DESCRIPTION:
URL:https://davefleschner.com/event/sabroso-16/
LOCATION:The 1905\, 830 N Shaver St\, Portland\, OR\, United States
END:VEVENT
BEGIN:VEVENT
DTSTART;TZID=America/Los_Angeles:20251114T200000
DTEND;TZID=America/Los_Angeles:20251114T210000
DTSTAMP:20260424T043539
CREATED:20251010T223024Z
LAST-MODIFIED:20251010T223024Z
UID:5500-1763150400-1763154000@davefleschner.com
SUMMARY:Idle Poets
DESCRIPTION:
URL:https://davefleschner.com/event/idle-poets-15/
LOCATION:13 Coins Vancouver\, 3801 NW Columbia St\, Vancouver\, WA\, United States
END:VEVENT
BEGIN:VEVENT
DTSTART;TZID=America/Los_Angeles:20251113T190000
DTEND;TZID=America/Los_Angeles:20251113T213000
DTSTAMP:20260424T043539
CREATED:20250930T220101Z
LAST-MODIFIED:20251019T020444Z
UID:5471-1763060400-1763069400@davefleschner.com
SUMMARY:Dave Fleschner Trio feat. Curtis Salgado
DESCRIPTION:https://aftontickets.com/event/buyticket/1qjwvl8r97/the-dave-fleschner-tro-with-guest-curtis-salgado
URL:https://davefleschner.com/event/dave-fleschner-trio-feat-curtis-salgado/
LOCATION:Hōkū Events on Madison\, 1125 SE Madison St\, Portland\, OR\, 97214\, United States
END:VEVENT
BEGIN:VEVENT
DTSTART;TZID=America/Los_Angeles:20251112T190000
DTEND;TZID=America/Los_Angeles:20251112T220000
DTSTAMP:20260424T043539
CREATED:20251002T220905Z
LAST-MODIFIED:20251002T220905Z
UID:5485-1762974000-1762984800@davefleschner.com
SUMMARY:Bundy Band
DESCRIPTION:
URL:https://davefleschner.com/event/bundy-band-2/
LOCATION:skyline tavern portland
END:VEVENT
BEGIN:VEVENT
DTSTART;TZID=America/Los_Angeles:20251108T170000
DTEND;TZID=America/Los_Angeles:20251108T210000
DTSTAMP:20260424T043539
CREATED:20250829T223831Z
LAST-MODIFIED:20250829T223831Z
UID:4184-1762621200-1762635600@davefleschner.com
SUMMARY:Lloyd jones
DESCRIPTION:
URL:https://davefleschner.com/event/lloyd-jones-3/
LOCATION:Spirits Pub\, 4037 NE Cully Blvd\, Portland\, OR\, United States
END:VEVENT
BEGIN:VEVENT
DTSTART;TZID=America/Los_Angeles:20251104T200000
DTEND;TZID=America/Los_Angeles:20251104T220000
DTSTAMP:20260424T043539
CREATED:20250909T122602Z
LAST-MODIFIED:20250909T122602Z
UID:4786-1762286400-1762293600@davefleschner.com
SUMMARY:Jam with Karen-Maria Capo/J.T. Thomas and the Blues Dancers
DESCRIPTION:
URL:https://davefleschner.com/event/jam-with-karen-maria-capo-j-t-thomas-and-the-blues-dancers-2/
LOCATION:Hōkū Events on Madison\, 1125 SE Madison St\, Portland\, OR\, 97214\, United States
END:VEVENT
BEGIN:VEVENT
DTSTART;TZID=America/Los_Angeles:20251102T180000
DTEND;TZID=America/Los_Angeles:20251102T210000
DTSTAMP:20260424T043539
CREATED:20250930T220103Z
LAST-MODIFIED:20250930T220103Z
UID:5476-1762106400-1762117200@davefleschner.com
SUMMARY:Sleeper Wave Fundraiser
DESCRIPTION:
URL:https://davefleschner.com/event/sleeper-wave-fundraiser-2/
LOCATION:Hōkū Events on Madison\, 1125 SE Madison St\, Portland\, OR\, 97214\, United States
END:VEVENT
BEGIN:VEVENT
DTSTART;TZID=America/Los_Angeles:20251028T200000
DTEND;TZID=America/Los_Angeles:20251028T220000
DTSTAMP:20260424T043539
CREATED:20250930T220100Z
LAST-MODIFIED:20250930T220100Z
UID:5469-1761681600-1761688800@davefleschner.com
SUMMARY:Duo with Karen-Maria Capo
DESCRIPTION:
URL:https://davefleschner.com/event/duo-with-karen-maria-capo-2/
LOCATION:Hōkū Events on Madison\, 1125 SE Madison St\, Portland\, OR\, 97214\, United States
END:VEVENT
BEGIN:VEVENT
DTSTART;TZID=America/Los_Angeles:20251024T190000
DTEND;TZID=America/Los_Angeles:20251024T210000
DTSTAMP:20260424T043539
CREATED:20250830T223829Z
LAST-MODIFIED:20251019T014805Z
UID:4209-1761332400-1761339600@davefleschner.com
SUMMARY:Dave Fleschner and Ben Rice Raise the Roof for the Trinidad Museum!
DESCRIPTION:Press Release: \nFor Immediate Release: \nDave Fleschner and Ben Rice Acoustic Duo: \nA Benefit for The Trinidad Museum Society \nFriday\, October 24 \n7:00 PM \nSuggested Donation/Sliding Scale??? \nTrinidad Town Hall \n409 Trinity St. \nTrinidad\, CA 95570 \n  \nThis captivating acoustic concert brings together two of the Pacific Northwest’s most respected musicians: keyboard maestro Dave Fleschner and multi-talented guitarist Ben Rice. Performing together for an unforgettable evening in Trinidad\, CA\, the duo will weave a rich tapestry of sound\, merging their original material with timeless blues classics. \n  \nBoth artists bring impressive and wide-ranging musical backgrounds to the stage. Internationally known for his work in blues\, jazz\, and soul\, Dave Fleschner has shared the stage with icons like B.B. King\, Steve Miller\, and Curtis Salgado. As a prolific composer\, arranger\, and performer\, he has a deep understanding of American roots music. For this special performance\, Fleschner will grace the stage on a magnificent Steinway grand piano\, offering a rare opportunity to hear his mastery in a stripped-down\, acoustic format. \n  \nKnown as a “blues ninja\,” Ben Rice has earned a national and international reputation for his virtuosic guitar work and powerful\, soulful vocals. He has captivated audiences with his dynamic slide playing on resonator and homemade cigar box guitars\, often leaving crowds speechless with his emotional delivery. A student of the blues\, Rice’s repertoire is rooted in the tradition of legends like Muddy Waters and Mississippi Fred McDowell\, but his original music fearlessly blends soul\, R&B\, and folk into a distinctive roots stew. \n  \nDon’t miss this opportunity to witness the synergy of two exceptional artists performing an intimate evening of song. Their mutual respect for American roots music and individual styles will create a compelling\, soulful\, and unforgettable acoustic experience.
URL:https://davefleschner.com/event/the-blues-cabaret-feat-earl-thomas/
LOCATION:Trinidad Town Hall\, 409 Trinity St\, Trinidad\, CA\, United States
END:VEVENT
BEGIN:VEVENT
DTSTART;TZID=America/Los_Angeles:20251011T170000
DTEND;TZID=America/Los_Angeles:20251011T210000
DTSTAMP:20260424T043539
CREATED:20250829T223831Z
LAST-MODIFIED:20250829T223831Z
UID:4183-1760202000-1760216400@davefleschner.com
SUMMARY:Lloyd jones
DESCRIPTION:
URL:https://davefleschner.com/event/lloyd-jones-2/
LOCATION:Spirits Pub\, 4037 NE Cully Blvd\, Portland\, OR\, United States
END:VEVENT
BEGIN:VEVENT
DTSTART;TZID=America/Los_Angeles:20251010T200000
DTEND;TZID=America/Los_Angeles:20251010T230000
DTSTAMP:20260424T043539
CREATED:20250614T234205Z
LAST-MODIFIED:20250614T234205Z
UID:1802-1760126400-1760137200@davefleschner.com
SUMMARY:Bottleneck Blues Band
DESCRIPTION:
URL:https://davefleschner.com/event/bottleneck-blues-band/
LOCATION:Alberta Abbey\, 126 NE Alberta St\, Portland\, OR\, United States
END:VEVENT
BEGIN:VEVENT
DTSTART;TZID=America/Los_Angeles:20251009T180000
DTEND;TZID=America/Los_Angeles:20251009T200000
DTSTAMP:20260424T043539
CREATED:20250808T122343Z
LAST-MODIFIED:20250808T122343Z
UID:3478-1760032800-1760040000@davefleschner.com
SUMMARY:Solo
DESCRIPTION:
URL:https://davefleschner.com/event/solo-2/
LOCATION:The Inn At Spanish Head Resort Hotel\, 3655 SW Hwy 101\, Lincoln City\, OR\, United States
END:VEVENT
BEGIN:VEVENT
DTSTART;TZID=America/Los_Angeles:20251008T170000
DTEND;TZID=America/Los_Angeles:20251008T200000
DTSTAMP:20260424T043539
CREATED:20250808T122343Z
LAST-MODIFIED:20250808T122343Z
UID:3476-1759942800-1759953600@davefleschner.com
SUMMARY:Solo
DESCRIPTION:
URL:https://davefleschner.com/event/solo/
LOCATION:Headlands Coastal Lodge & Spa\, 33000 Cape Kiwanda Dr\, Pacific City\, OR\, United States
END:VEVENT
BEGIN:VEVENT
DTSTART;TZID=America/Los_Angeles:20251007T200000
DTEND;TZID=America/Los_Angeles:20251007T220000
DTSTAMP:20260424T043539
CREATED:20250909T122602Z
LAST-MODIFIED:20250909T122602Z
UID:4785-1759867200-1759874400@davefleschner.com
SUMMARY:Jam with Karen-Maria Capo/J.T. Thomas and the Blues Dancers
DESCRIPTION:
URL:https://davefleschner.com/event/jam-with-karen-maria-capo-j-t-thomas-and-the-blues-dancers/
LOCATION:Hōkū Events on Madison\, 1125 SE Madison St\, Portland\, OR\, 97214\, United States
END:VEVENT
BEGIN:VEVENT
DTSTART;TZID=America/Los_Angeles:20251004T180000
DTEND;TZID=America/Los_Angeles:20251004T210000
DTSTAMP:20260424T043539
CREATED:20250614T234204Z
LAST-MODIFIED:20250614T234204Z
UID:1801-1759600800-1759611600@davefleschner.com
SUMMARY:UBMA
DESCRIPTION:
URL:https://davefleschner.com/event/ubma/
LOCATION:Sehmel Homestead Park\, 10123 78th Ave NW\, Gig Harbor\, WA\, United States
END:VEVENT
BEGIN:VEVENT
DTSTART;TZID=America/Los_Angeles:20251002T190000
DTEND;TZID=America/Los_Angeles:20251002T210000
DTSTAMP:20260424T043539
CREATED:20250909T122602Z
LAST-MODIFIED:20250909T122602Z
UID:4784-1759431600-1759438800@davefleschner.com
SUMMARY:John Bunzow
DESCRIPTION:
URL:https://davefleschner.com/event/john-bunzow/
LOCATION:Hōkū Events on Madison\, 1125 SE Madison St\, Portland\, OR\, 97214\, United States
END:VEVENT
BEGIN:VEVENT
DTSTART;TZID=America/Los_Angeles:20250926T190000
DTEND;TZID=America/Los_Angeles:20250926T220000
DTSTAMP:20260424T043539
CREATED:20250816T215758Z
LAST-MODIFIED:20250816T215758Z
UID:4150-1758913200-1758924000@davefleschner.com
SUMMARY:Idle poets
DESCRIPTION:
URL:https://davefleschner.com/event/idle-poets-13/
LOCATION:13 Coins Vancouver\, 3801 NW Columbia St\, Vancouver\, WA\, United States
END:VEVENT
BEGIN:VEVENT
DTSTART;TZID=America/Los_Angeles:20250925T180000
DTEND;TZID=America/Los_Angeles:20250925T195000
DTSTAMP:20260424T043539
CREATED:20250803T223947Z
LAST-MODIFIED:20250803T223947Z
UID:3317-1758823200-1758829800@davefleschner.com
SUMMARY:Private
DESCRIPTION:
URL:https://davefleschner.com/event/private/
LOCATION:Gig Harbor\, WA\, USA
END:VEVENT
BEGIN:VEVENT
DTSTART;TZID=America/Los_Angeles:20250923T200000
DTEND;TZID=America/Los_Angeles:20250923T220000
DTSTAMP:20260424T043539
CREATED:20250909T122602Z
LAST-MODIFIED:20250909T122602Z
UID:4783-1758657600-1758664800@davefleschner.com
SUMMARY:Duo & Jam with Karen-Maria Capo and the Blues Dancers
DESCRIPTION:
URL:https://davefleschner.com/event/duo-jam-with-karen-maria-capo-and-the-blues-dancers-4/
LOCATION:Hōkū Events on Madison\, 1125 SE Madison St\, Portland\, OR\, 97214\, United States
END:VEVENT
BEGIN:VEVENT
DTSTART;TZID=America/Los_Angeles:20250921T180000
DTEND;TZID=America/Los_Angeles:20250921T210000
DTSTAMP:20260424T043539
CREATED:20250615T234446Z
LAST-MODIFIED:20250615T234446Z
UID:1804-1758477600-1758488400@davefleschner.com
SUMMARY:Cascade Blues Association Journey to Memphis Youth Showcase
DESCRIPTION:Calling All Youth Blues Artists! Journey To Memphis Youth Showcase Challenge\n\n \nThe Cascade Blues Association is now accepting applications for our 2025 Journey to Memphis (J2M) Youth Showcase challenge! This is your shot to represent the Pacific Northwest at the International Blues Challenge (IBC) in Memphis\, Tennessee\, hosted every January by the Blues Foundation. \nThe Blues FoundationIf you’re not familiar with the IBC\, picture this: hundreds of the best blues musicians from around the globe gathering on legendary Beale Street to compete\, connect\, and get noticed. It’s a judged showcase of solo/duo acts and full bands\,— all working their way toward greater recognition in the blues world. And yes\, it’s as epic as it sounds. \nOregon Bluesberries at IBC 2025 \nOregon Bluesberries Performing at the IBC Youth Showcase – January 2025 \n \nWant to learn how to bring your A-game?Join us for youth Jam and info sessions. Don’t miss this free learning and networking opportunity. \n1st Mondays July 7\, August 4 and September 1\, 6:30-8:30pm Youth Jam at Artichoke Music \nShowcase September 21 at HōKū Events on Madison \nIf you’re a young blues artist looking to learn from those who’ve gone before you\, this is your moment. \nHere’s the fine print: \n\nThis is our local qualifying event to decide who represents us in Memphis\, it will be held in September – date will be released soon.\nThe International Blues Challenge’s Youth category is open to any act where all members are under the age of 21 at the time of the challenge. Specifically\, The Blues Foundation defines “Youth” as an act where all performing members are under 21\, according to. This means that if even one member of a group is 21 or older\, it cannot be considered a Youth act. \nWinners of J2M Youth Challenge are responsible for their own expenses including all travel\, lodging\, and food. The CBA will help promote youth led fundraisers.\nAt least one member of each act must be a member of the CBA. A 12 month Youth membership is $15.\nEntry Fee for each act to participate in the J2M Youth Challenge is $30 for a band or $15 for a solo/duo act.\n\nCLICK HERE TO LET US KNOW YOU’D LIKE TO LEARN MORE \nLet’s see what the Pacific Northwest blues community can bring to Beale Street this year.  Let’s make some noise!\nJoin with Google Meet: https://meet.google.com/kpg-pgkf-wko\nLearn more about Meet at: https://support.google.com/a/users/answer/9282720
URL:https://davefleschner.com/event/cascade-blues-association-journey-to-memphis-youth-showcase/
LOCATION:Hōkū Events on Madison\, 1125 SE Madison St\, Portland\, OR\, 97214\, United States
END:VEVENT
END:VCALENDAR