BEGIN:VCALENDAR
VERSION:2.0
PRODID:-//Dave Fleschner - ECPv6.15.20//NONSGML v1.0//EN
CALSCALE:GREGORIAN
METHOD:PUBLISH
X-WR-CALNAME:Dave Fleschner
X-ORIGINAL-URL:https://davefleschner.com
X-WR-CALDESC:Events for Dave Fleschner
REFRESH-INTERVAL;VALUE=DURATION:PT1H
X-Robots-Tag:noindex
X-PUBLISHED-TTL:PT1H
BEGIN:VTIMEZONE
TZID:America/Los_Angeles
BEGIN:DAYLIGHT
TZOFFSETFROM:-0800
TZOFFSETTO:-0700
TZNAME:PDT
DTSTART:20240310T100000
END:DAYLIGHT
BEGIN:STANDARD
TZOFFSETFROM:-0700
TZOFFSETTO:-0800
TZNAME:PST
DTSTART:20241103T090000
END:STANDARD
BEGIN:DAYLIGHT
TZOFFSETFROM:-0800
TZOFFSETTO:-0700
TZNAME:PDT
DTSTART:20250309T100000
END:DAYLIGHT
BEGIN:STANDARD
TZOFFSETFROM:-0700
TZOFFSETTO:-0800
TZNAME:PST
DTSTART:20251102T090000
END:STANDARD
BEGIN:DAYLIGHT
TZOFFSETFROM:-0800
TZOFFSETTO:-0700
TZNAME:PDT
DTSTART:20260308T100000
END:DAYLIGHT
BEGIN:STANDARD
TZOFFSETFROM:-0700
TZOFFSETTO:-0800
TZNAME:PST
DTSTART:20261101T090000
END:STANDARD
END:VTIMEZONE
BEGIN:VEVENT
DTSTART;TZID=America/Los_Angeles:20250913T000000
DTEND;TZID=America/Los_Angeles:20250914T235959
DTSTAMP:20260424T075755
CREATED:20250222T215523Z
LAST-MODIFIED:20250310T002933Z
UID:1307-1757721600-1757894399@davefleschner.com
SUMMARY:Private gig
DESCRIPTION:
URL:https://davefleschner.com/event/private-gig/
END:VEVENT
BEGIN:VEVENT
DTSTART;TZID=America/Los_Angeles:20250911T190000
DTEND;TZID=America/Los_Angeles:20250911T210000
DTSTAMP:20260424T075755
CREATED:20250823T233852Z
LAST-MODIFIED:20250903T041354Z
UID:4167-1757617200-1757624400@davefleschner.com
SUMMARY:The Blues Cabaret feat. Earl Thomas and The Dave Fleschner Trio
DESCRIPTION:Award Winning Vocalist Earl Thomas Joins Dave Fleschner’s Blues Cabaret  \nAn evening where the blues meets Broadway flair \nPortland\, OR — Thursday\, September 11\, 2025 —  \nAcclaimed singer and songwriter Earl Thomas first joined forces with pianist and composer Dave Fleschner after a chance meeting aboard the Legendary Rhythm & Blues Cruise in 2010. What began as a casual conversation about Fleschner’s original music soon blossomed into The Blues Cabaret—a bold\, sophisticated blend of blues\, soul\, and theatrical storytelling. With a shared passion for reimagining the blues\, Thomas and Fleschner began developing the project in 2012. Together they’ve been shaping and perfecting this unique body of work\, now set to be showcased in a special one night only performance at Hoku Events on Madison.  \n“Dave sent me an entire body of work that I thought was fantastic and very sophisticated blues\,” recalls Thomas. “I suggested he ought to pitch this to Broadway—and from there The Blues Cabaret was born.”  \nThe two artists discovered even deeper ties: both attended Humboldt State and both share connections to Trinidad\, California—where Thomas lived for over a decade and where Fleschner grew up. In fact\, Thomas was a longtime friend of Fleschner’s mother\, who often insisted\, “Earl\, you need to meet my son.”  \nEvent Details:  \n\n What: Dave Fleschner’s The Blues Cabaret featuring Earl Thomas \n When: Thursday\, September 9 \n Where: Hoku Events on Madison \n Tickets: TicketTomoato.com $15 Presale\, $20 at the door\n\nAbout Earl Thomas Earl Thomas is a Grammy-nominated singer and songwriter whose songs have been recorded by legends including Etta James\, Solomon Burke\, Screamin’ Jay Hawkins\, and Tom Jones. Known worldwide as “The Ambassador of Blues\,” Thomas continues to captivate audiences with his powerful voice and unique fusion of gospel\, soul\, and blues.  \nAbout Dave Fleschner Dave Fleschner is a celebrated pianist and composer whose original works fuse the raw soul of the blues with the sophistication of theatre. He has performed with the Portland Gay Men’s Chorus and shared the stage with Curtis Salgado\, B.B. King\, Steve Miller\, and The Pointer Sisters. As Musical Director of United By Music America\, Fleschner champions inclusion and artistry\, guiding diverse performers to the spotlight. His compositions form the backbone of The Blues Cabaret\, a genre-bending project he has co-created and developed with Earl Thomas for more than a decade.  \nPress Contact:  \nDave Fleschner fleschtonerecords@gmail.com  \n(503) 349-7883 
URL:https://davefleschner.com/event/the-blues-cabaret-feat-earl-thomas-and-the-dave-fleschner-trio/
LOCATION:Hōkū Events on Madison\, 1125 SE Madison St\, Portland\, OR\, 97214\, United States
ORGANIZER;CN="Dave Fleschner":MAILTO:fleschtonerecords@gmail.com
END:VEVENT
BEGIN:VEVENT
DTSTART;TZID=America/Los_Angeles:20250903T170000
DTEND;TZID=America/Los_Angeles:20250903T200000
DTSTAMP:20260424T075755
CREATED:20250811T002356Z
LAST-MODIFIED:20250823T233144Z
UID:3717-1756918800-1756929600@davefleschner.com
SUMMARY:Dave solo
DESCRIPTION:
URL:https://davefleschner.com/event/dave-solo-8/
LOCATION:Headlands Coastal Lodge & Spa\, 33000 Cape Kiwanda Dr\, Pacific City\, OR\, United States
END:VEVENT
BEGIN:VEVENT
DTSTART;TZID=America/Los_Angeles:20250901T183000
DTEND;TZID=America/Los_Angeles:20250901T203000
DTSTAMP:20260424T075755
CREATED:20250220T110124Z
LAST-MODIFIED:20250310T002933Z
UID:1262-1756751400-1756758600@davefleschner.com
SUMMARY:Dave's Lowdown Youth Jam
DESCRIPTION:Dave’s Lowdown Youth Blues Jam w/ Backbeat Music Academy Rhythm Section \nThis learning-focused jam is for student-age musicians of all levels who are serious about developing musicianship. \nThis jam will be on the 1st Monday night each month. Artichoke Music is open to all ages…always. \nhttps://artichokemusic.org/class.aspx?cls=986688
URL:https://davefleschner.com/event/daves-lowdown-youth-jam-7/
LOCATION:Artichoke Community Music\, 2007 SE Powell Blvd\, Portland\, OR\, United States
END:VEVENT
BEGIN:VEVENT
DTSTART;TZID=America/Los_Angeles:20250830T190000
DTEND;TZID=America/Los_Angeles:20250830T200000
DTSTAMP:20260424T075755
CREATED:20250414T231950Z
LAST-MODIFIED:20250414T231950Z
UID:1561-1756580400-1756584000@davefleschner.com
SUMMARY:Ubma Triple Door with Southern Ave.
DESCRIPTION:
URL:https://davefleschner.com/event/ubma-triple-door-with-southern-ave/
LOCATION:The Triple Door\, 216 Union St\, Seattle\, WA\, United States
END:VEVENT
BEGIN:VEVENT
DTSTART;TZID=America/Los_Angeles:20250826T200000
DTEND;TZID=America/Los_Angeles:20250826T220000
DTSTAMP:20260424T075755
CREATED:20250611T233845Z
LAST-MODIFIED:20250618T182932Z
UID:1796-1756238400-1756245600@davefleschner.com
SUMMARY:Dave Fleschner with Karen-Maria Capo and the Blues Dancers
DESCRIPTION:
URL:https://davefleschner.com/event/duo-jam-with-karen-maria-capo-and-the-blues-dancers-3/
LOCATION:Hōkū Events on Madison\, 1125 SE Madison St\, Portland\, OR\, 97214\, United States
END:VEVENT
BEGIN:VEVENT
DTSTART;TZID=America/Los_Angeles:20250824T180000
DTEND;TZID=America/Los_Angeles:20250824T193000
DTSTAMP:20260424T075755
CREATED:20250227T222748Z
LAST-MODIFIED:20250310T002932Z
UID:1315-1756058400-1756063800@davefleschner.com
SUMMARY:Sabroso
DESCRIPTION:
URL:https://davefleschner.com/event/sabroso-13/
LOCATION:Millennium Plaza Park\, 300 1st St\, Lake Oswego\, OR\, United States
END:VEVENT
BEGIN:VEVENT
DTSTART;TZID=America/Los_Angeles:20250823T070000
DTEND;TZID=America/Los_Angeles:20250823T080000
DTSTAMP:20260424T075755
CREATED:20250412T231755Z
LAST-MODIFIED:20250412T231755Z
UID:1553-1755932400-1755936000@davefleschner.com
SUMMARY:Idle Poets
DESCRIPTION:
URL:https://davefleschner.com/event/idle-poets-11/
LOCATION:Smeads Pub\, 3395 Evergreen Way\, Washougal\, WA\, United States
END:VEVENT
BEGIN:VEVENT
DTSTART;TZID=America/Los_Angeles:20250820T170000
DTEND;TZID=America/Los_Angeles:20250820T200000
DTSTAMP:20260424T075755
CREATED:20250611T233845Z
LAST-MODIFIED:20250611T233845Z
UID:1795-1755709200-1755720000@davefleschner.com
SUMMARY:Dave solo
DESCRIPTION:
URL:https://davefleschner.com/event/dave-solo-7/
LOCATION:Headlands Coastal Lodge & Spa\, 33000 Cape Kiwanda Dr\, Pacific City\, OR\, United States
END:VEVENT
BEGIN:VEVENT
DTSTART;TZID=America/Los_Angeles:20250816T000000
DTEND;TZID=America/Los_Angeles:20250816T235959
DTSTAMP:20260424T075755
CREATED:20250619T215442Z
LAST-MODIFIED:20250619T215442Z
UID:1846-1755302400-1755388799@davefleschner.com
SUMMARY:Dave Fleschner with Trinidad Kid
DESCRIPTION:
URL:https://davefleschner.com/event/dave-fleschner-with-trinidad-kid/
LOCATION:Big Lagoon Campgrounds\, 700 A St\, Trinidad\, CA\, United States
END:VEVENT
BEGIN:VEVENT
DTSTART;TZID=America/Los_Angeles:20250814T190000
DTEND;TZID=America/Los_Angeles:20250814T220000
DTSTAMP:20260424T075755
CREATED:20250618T181622Z
LAST-MODIFIED:20250618T181622Z
UID:1810-1755198000-1755208800@davefleschner.com
SUMMARY:The Dave Fleschner Trio with Hank Shreve at HōKū
DESCRIPTION:https://www.hankshreveband.com/
URL:https://davefleschner.com/event/the-dave-fleschner-trio-with-hank-shreve-at-hoku/
LOCATION:Hōkū Events on Madison\, 1125 SE Madison St\, Portland\, OR\, 97214\, United States
END:VEVENT
BEGIN:VEVENT
DTSTART;TZID=America/Los_Angeles:20250809T190000
DTEND;TZID=America/Los_Angeles:20250809T200000
DTSTAMP:20260424T075755
CREATED:20250412T231755Z
LAST-MODIFIED:20250412T231755Z
UID:1552-1754766000-1754769600@davefleschner.com
SUMMARY:Idle poets
DESCRIPTION:
URL:https://davefleschner.com/event/idle-poets-10/
LOCATION:Conway’s House Of Jazz\, 16100 SE 82nd Dr\, Clackamas\, OR\, United States
END:VEVENT
BEGIN:VEVENT
DTSTART;TZID=America/Los_Angeles:20250808T190000
DTEND;TZID=America/Los_Angeles:20250808T220000
DTSTAMP:20260424T075755
CREATED:20250201T220155Z
LAST-MODIFIED:20250310T002932Z
UID:1130-1754679600-1754690400@davefleschner.com
SUMMARY:Sabroso
DESCRIPTION:
URL:https://davefleschner.com/event/sabroso-10/
LOCATION:Arrivederci Wine & Jazz\, 17023 McLoughlin Blvd\, Portland\, OR\, United States
END:VEVENT
BEGIN:VEVENT
DTSTART;TZID=America/Los_Angeles:20250807T190000
DTEND;TZID=America/Los_Angeles:20250807T210000
DTSTAMP:20260424T075755
CREATED:20250521T222916Z
LAST-MODIFIED:20250521T222916Z
UID:1753-1754593200-1754600400@davefleschner.com
SUMMARY:Dave Cooley
DESCRIPTION:
URL:https://davefleschner.com/event/dave-cooley/
LOCATION:Conway’s House Of Jazz\, 16100 SE 82nd Dr\, Clackamas\, OR\, United States
END:VEVENT
BEGIN:VEVENT
DTSTART;TZID=America/Los_Angeles:20250804T183000
DTEND;TZID=America/Los_Angeles:20250804T203000
DTSTAMP:20260424T075755
CREATED:20250220T110124Z
LAST-MODIFIED:20250310T002932Z
UID:1261-1754332200-1754339400@davefleschner.com
SUMMARY:Dave's Lowdown Youth Jam
DESCRIPTION:Dave’s Lowdown Youth Blues Jam w/ Backbeat Music Academy Rhythm Section \nThis learning-focused jam is for student-age musicians of all levels who are serious about developing musicianship. \nThis jam will be on the 1st Monday night each month. Artichoke Music is open to all ages…always. \nhttps://artichokemusic.org/class.aspx?cls=986688
URL:https://davefleschner.com/event/daves-lowdown-youth-jam-6/
LOCATION:Artichoke Community Music\, 2007 SE Powell Blvd\, Portland\, OR\, United States
END:VEVENT
BEGIN:VEVENT
DTSTART;TZID=America/Los_Angeles:20250802T150000
DTEND;TZID=America/Los_Angeles:20250802T160000
DTSTAMP:20260424T075755
CREATED:20250630T233001Z
LAST-MODIFIED:20250630T233001Z
UID:1883-1754146800-1754150400@davefleschner.com
SUMMARY:Lloyd Jones
DESCRIPTION:
URL:https://davefleschner.com/event/lloyd-jones/
END:VEVENT
BEGIN:VEVENT
DTSTART;TZID=America/Los_Angeles:20250731T190000
DTEND;TZID=America/Los_Angeles:20250731T200000
DTSTAMP:20260424T075755
CREATED:20250630T233000Z
LAST-MODIFIED:20250630T233000Z
UID:1882-1753988400-1753992000@davefleschner.com
SUMMARY:UBMA with The Bards of Paradise
DESCRIPTION:United By Music America opens for:https://www.mcmenamins.com/events/267482-bards-of-paradise
URL:https://davefleschner.com/event/ubma-with-the-bards-of-paradise/
LOCATION:Spanish Ballroom at Elks Temple\, 565 Broadway\, Tacoma\, WA\, United States
END:VEVENT
BEGIN:VEVENT
DTSTART;TZID=America/Los_Angeles:20250730T170000
DTEND;TZID=America/Los_Angeles:20250730T200000
DTSTAMP:20260424T075755
CREATED:20250531T231131Z
LAST-MODIFIED:20250531T231131Z
UID:1768-1753894800-1753905600@davefleschner.com
SUMMARY:Dave solo
DESCRIPTION:
URL:https://davefleschner.com/event/dave-solo-6/
LOCATION:Headlands Coastal Lodge & Spa\, 33000 Cape Kiwanda Dr\, Pacific City\, OR\, United States
END:VEVENT
BEGIN:VEVENT
DTSTART;TZID=America/Los_Angeles:20250727T125500
DTEND;TZID=America/Los_Angeles:20250727T140500
DTSTAMP:20260424T075755
CREATED:20250414T231950Z
LAST-MODIFIED:20250414T231950Z
UID:1559-1753620900-1753625100@davefleschner.com
SUMMARY:UBMA gospel blues show
DESCRIPTION:
URL:https://davefleschner.com/event/ubma-gospel-blues-show/
LOCATION:Northeast Portland\, Portland\, OR\, United States
END:VEVENT
BEGIN:VEVENT
DTSTART;TZID=America/Los_Angeles:20250726T190000
DTEND;TZID=America/Los_Angeles:20250726T200000
DTSTAMP:20260424T075755
CREATED:20250213T225210Z
LAST-MODIFIED:20250310T002932Z
UID:1179-1753556400-1753560000@davefleschner.com
SUMMARY:Sabroso
DESCRIPTION:
URL:https://davefleschner.com/event/sabroso-11/
LOCATION:The 1905\, 830 N Shaver St\, Portland\, OR\, United States
END:VEVENT
BEGIN:VEVENT
DTSTART;TZID=America/Los_Angeles:20250725T180000
DTEND;TZID=America/Los_Angeles:20250725T190000
DTSTAMP:20260424T075755
CREATED:20250629T232710Z
LAST-MODIFIED:20250629T232710Z
UID:1874-1753466400-1753470000@davefleschner.com
SUMMARY:Idle Poets
DESCRIPTION:Independence Summer Concert Series
URL:https://davefleschner.com/event/idle-poets-12/
LOCATION:Independence\, OR\, USA
END:VEVENT
BEGIN:VEVENT
DTSTART;TZID=America/Los_Angeles:20250722T200000
DTEND;TZID=America/Los_Angeles:20250722T220000
DTSTAMP:20260424T075755
CREATED:20250611T233845Z
LAST-MODIFIED:20250618T183126Z
UID:1794-1753214400-1753221600@davefleschner.com
SUMMARY:Dave Fleschner duo with Karen-Maria Capo and the Blues Dancers
DESCRIPTION:
URL:https://davefleschner.com/event/duo-jam-with-karen-maria-capo-and-the-blues-dancers-2/
LOCATION:Hōkū Events on Madison\, 1125 SE Madison St\, Portland\, OR\, 97214\, United States
END:VEVENT
BEGIN:VEVENT
DTSTART;TZID=America/Los_Angeles:20250719T000000
DTEND;TZID=America/Los_Angeles:20250719T235959
DTSTAMP:20260424T075755
CREATED:20241215T220555Z
LAST-MODIFIED:20250310T002932Z
UID:836-1752883200-1752969599@davefleschner.com
SUMMARY:The Guilty Pleasures
DESCRIPTION:Not sure this show is open to the public\, but we’re likely to have a couple booked right around it.
URL:https://davefleschner.com/event/the-guilty-pleasures/
LOCATION:Maryhill Museum of Art\, 35 Maryhill Museum Dr\, Goldendale\, WA\, United States
END:VEVENT
BEGIN:VEVENT
DTSTART;TZID=America/Los_Angeles:20250718T220000
DTEND;TZID=America/Los_Angeles:20250719T010000
DTSTAMP:20260424T075755
CREATED:20250214T225123Z
LAST-MODIFIED:20250310T002914Z
UID:1184-1752876000-1752886800@davefleschner.com
SUMMARY:Sabroso
DESCRIPTION:
URL:https://davefleschner.com/event/sabroso-12/
LOCATION:ilani\, 1 Cowlitz Way\, Kelso\, WA\, United States
END:VEVENT
BEGIN:VEVENT
DTSTART;TZID=America/Los_Angeles:20250716T180000
DTEND;TZID=America/Los_Angeles:20250716T200000
DTSTAMP:20260424T075755
CREATED:20250619T215441Z
LAST-MODIFIED:20250619T215441Z
UID:1844-1752688800-1752696000@davefleschner.com
SUMMARY:United By Music America
DESCRIPTION:Music on the Square\nhttps://www.cityofup.com/420/Music-on-the-Square#:~:text=Music%20on%20the%20Square%20is\,Drexler%20Drive%20or%2037th%20Street
URL:https://davefleschner.com/event/united-by-music-america/
LOCATION:Market Square\, Tacoma\, WA\, United States
END:VEVENT
BEGIN:VEVENT
DTSTART;TZID=America/Los_Angeles:20250712T050000
DTEND;TZID=America/Los_Angeles:20250712T090000
DTSTAMP:20260424T075755
CREATED:20250708T122432Z
LAST-MODIFIED:20250708T122432Z
UID:2138-1752296400-1752310800@davefleschner.com
SUMMARY:Trinidad Kid
DESCRIPTION:https://trinidadkid.com/
URL:https://davefleschner.com/event/trinidad-kid/
LOCATION:Big Lagoon Campgrounds\, 700 A St\, Trinidad\, CA\, United States
END:VEVENT
BEGIN:VEVENT
DTSTART;TZID=America/Los_Angeles:20250711T200000
DTEND;TZID=America/Los_Angeles:20250711T210000
DTSTAMP:20260424T075755
CREATED:20250323T215600Z
LAST-MODIFIED:20250323T215600Z
UID:1447-1752264000-1752267600@davefleschner.com
SUMMARY:Idle Poets at Rainer Days
DESCRIPTION:
URL:https://davefleschner.com/event/idle-poets-at-rainer-days/
LOCATION:Rainier\, Rainier\, OR\, United States
END:VEVENT
BEGIN:VEVENT
DTSTART;TZID=America/Los_Angeles:20250710T190000
DTEND;TZID=America/Los_Angeles:20250710T220000
DTSTAMP:20260424T075755
CREATED:20250618T181621Z
LAST-MODIFIED:20250628T081532Z
UID:1808-1752174000-1752184800@davefleschner.com
SUMMARY:Dave Fleschner Presents John Bunzow at HōKū
DESCRIPTION:John Bunzow Band \nHōKū Events on Madison \n1125 SE Madison \nThursday\, July 10 \n7:00 – 9:00 \n$15-$20 Sliding Scale \nThe band… Denny Bixby on bass (Oregon Music Hall of Fame\, Rodney Crowell\, and leader of the local singer-songwriter group\, the Ex Nashville Cats) Dave Fleshner\, keys and Kip Richardson\, drums \nThe band showcases John Bunzow’s original songs and has performed on the Main Stage at the Portland Waterfront Blues Festival and The Sunbanks Roots Festival \nJohn Bunzow\, singer\, songwriter\, guitarist \nPortland Oregon native John Bunzow’s mix of eclectic musical influences – melding blues\, country\, rock and even jazz – have helped establish him as an original artist of heartfelt depth\, substance and style. \nHe’s as likely to draw on his love of the music of country legend Merle Haggard or scuffling barroom bard Tom Waits\, as he is the smooth R&B and soul of Marvin Gaye\, the iconic folk wisdom of Bob Dylan\, James Taylor\, Ry Cooder or the blues of Albert King. \nAfter beginning his musical career in the Northwest scene playing in popular all-original bands the Cowboy Angels\, X-Angels and more for over two decades\, John set his sights on songwriter heaven – Nashville – scoring a songwriting contract with EMI Nashville/Famous Music and a recording contract with Liberty/Capitol Records. He quickly found his services in big demand with Nashville recording artists and had the opportunity to write for and perform with some of country and rock music’s biggest names. \nHis is deep roots music that touches the heart of anybody who’s ever raised a little hell on a Saturday night\, or felt the pangs of a love gone bad. \nhttps://www.johnbunzow.com/ \nDenny Bixby\, bass and vocals \nOregon Music Hall of Famer Denny Bixby is known in his hometown of Portland\, Oregon and far beyond as a creative\, intuitive\, and highly respected bassist and singer.  His work with multiple Grammy and other award-winning\, world-renowned artists (Rodney Crowell\, Nanci Griffith\, Buddy Miller\, Suzy Bogguss\, Chet Atkins\, Mary-Chapin Carpenter\, Kathy Mattea) and with Portland’s own stellar musical community (Quarterflash\, Curtis Salgado\, Jon Koonce\, Lloyd Jones\, John Bunzow\, Jack McMahon\, Thad Beckman\, Gary Ogan and many others) is well-documented. \nUpon returning to Portland in 2005 after 18 years in the Nashville\, Tennessee area\, Denny continued his evolution as a musician by concentrating on songwriting and playing guitar. \nDenny has two solo albums to his credit.  2003’s Fish Out of Water\, recorded in Nashville\, showcases his love of contemporary jazz and fusion with 10 original songs\, and features his arrangements and production. \nHis latest collection of songs\, released in 2017\, is entitled Joyride.  The music falls into the Americana category\, featuring roots\, rock\, folk\, and country-influenced original material. \nhttps://www.facebook.com/Denny-Bixby-Music-806937872996149/ \nDave Fleschner\, keys \nDave Fleschner performs routinely around the world. He has performed with Grammy Winning artists: B.B. King\, The Pointer Sisters\, Steve Miller\, Christone “Kingfish” Ingram\, Bobby Rush\, Chubby Carrier and The Portland Symphony Orchestra. He has toured internationally with Curtis Salgado\, John Nemeth\, Kara Granger\, Karen Lovely\, Earl Thomas and United by Music North America. Fleschner’s song “I Want to Love You” was in contention for a Grammy Nomination by two different artists in the same year.  He has released several albums as a band leader and countless albums as a producer\, sideman and band member.  In demand as a producer\, composer\, songwriter\, orchestrator\, arranger\, music director\, side man and educator\, Fleschner’s music displays a deep understanding of American roots music. \nKip Richardson\, drums \nKip Richardson is a singer\, songwriter and multi-instrumentalist from Portland\, Oregon. He was inducted into the Oregon Music Hall of Fame as a member of Johnny and the Distractions. The Prose are Doug Fraser\, Denny Bixby\, John Bunzow and Steve Shroy\, all total pros who have performed and recorded as frontmen or members of some of the best musical acts in the country. \nhttps://www.youtube.com/@kiprichardson15
URL:https://davefleschner.com/event/dave-fleschner-presents-john-bunzow-at-hoku/
LOCATION:Hōkū Events on Madison\, 1125 SE Madison St\, Portland\, OR\, 97214\, United States
END:VEVENT
BEGIN:VEVENT
DTSTART;TZID=America/Los_Angeles:20250707T183000
DTEND;TZID=America/Los_Angeles:20250707T203000
DTSTAMP:20260424T075755
CREATED:20250220T110124Z
LAST-MODIFIED:20250310T002914Z
UID:1260-1751913000-1751920200@davefleschner.com
SUMMARY:Dave's Lowdown Youth Jam
DESCRIPTION:Dave’s Lowdown Youth Blues Jam w/ Backbeat Music Academy Rhythm Section \nThis learning-focused jam is for student-age musicians of all levels who are serious about developing musicianship. \nThis jam will be on the 1st Monday night each month. Artichoke Music is open to all ages…always. \nhttps://artichokemusic.org/class.aspx?cls=986688
URL:https://davefleschner.com/event/daves-lowdown-youth-jam-5/
LOCATION:Artichoke Community Music\, 2007 SE Powell Blvd\, Portland\, OR\, United States
END:VEVENT
BEGIN:VEVENT
DTSTART;TZID=America/Los_Angeles:20250705T210000
DTEND;TZID=America/Los_Angeles:20250705T230000
DTSTAMP:20260424T075755
CREATED:20250629T232710Z
LAST-MODIFIED:20250629T233710Z
UID:1872-1751749200-1751756400@davefleschner.com
SUMMARY:Amanda Gresham Presents Festival After Hours at Hotel Rose with Dave Fleschner
DESCRIPTION:After Hours at Hotel Rose is back! \nAmanda Gresham Revives “After Hours” at the Waterfront Blues Festival with Dave Fleschner hosting an All-Star Blues Piano Trio\nAmanda Gresham has received Back What You Believe Award\, Best Northwest Event for her Blues Brunches at Hotel Rose during Waterfront Blues Fest\, and seven Anthem Awards for her purpose and mission-driven work over 3 decades in the music industry.  Others who have received the Industry Recognition Anthem Award – brought to you by the Webby Awards – include Lady Gaga\, Michelle Obama\, Kamala Harris and Taylor Swift.  Gresham has sponsored the DME Blues Cruises for over a decade\, and founded Award winning events at the Hotel Rose. \nThe late-night series returns with a powerhouse trio led by acclaimed blues pianist Dave Fleschner\, joined by Ben Jones on bass and Charles Neal on drums — promising deep grooves and electrifying improvisation into the early morning hours.\nHeld at the Hotel Rose\, just steps away from the main festival grounds\, this After Hours revival will be the perfect way for blues fans to keep the party going after the final mainstage note has faded. Adding to the excitement\, Julie and Andy Strange of The StrangeTones will be among the special guests sitting in with the band. Fans can expect an evolving lineup of local and national talent dropping by for impromptu jams and unforgettable performances. \nAmanda is excited to be working with the Hotel Rose and Dave Fleschner to bring back after hours sessions – where the magic happens — where musicians let go and let the music speaks for itself – when the heart of the blues is most alive. \nDave Fleschner performs routinely around the world as a producer\, composer\, songwriter\, orchestrater\, arranger\, music director\, side man and educator\, Fleschner’s music displays a deep understanding of American roots music.\nHe’s worked with with Grammy Winning artists: B.B. King\, The Pointer Sisters\, Steve Miller\, Christone “Kingfish” Ingram\, Bobby Rush\, Chubby Carrier  and The Portland Symphony Orchestra. He has toured internationally with Curtis Salgado\, John Nemeth\, Kara Granger\, Karen Lovely\, Earl Thomas and United by Music North America. Fleschner’s song “I Want to love you” was in contention for Grammy Nomination by two different artists in the same year.  He has released several albums as a band leader – and countless albums as a producer\, sideman and band member. \nJoined by Ben Jones on Bass:\n“Always on the move and living the bass dream”\nBASS MUSICIAN MAGAZINE – JULY 2016\nRAUL AMADOR covers the wide world of Bassman Ben Jones in the July 2016 issue of Bass Musician Magazine:\n” . . . This dynamic musician has been a Bassist and Musical Director for over 35 years\, having toured or recorded with The Neville Brothers\, Liv Warfield\, Anita Baker and Jennifer Batten (to name a few on this long\, impressive list) . . . \nCharles Neal on Drums:\nFor the last 10 years he has lived in Portland performing\, writing\, producing\, recording\, and teaching music. To me Music=Life. Charles’s love for collaborating on other artist’s projects has been seen here in Portland when he has produced a powerful live Hip Hop group named QuiVaH which has received local and regional recognition with a following. Charles has played with many musicians in the northwest and continues to be an active musician in the Portland area. Furthermore he is constantly working on numerous music projects in the recording studio allowing him to continually sharpen an perfect his true love of composing music of all kinds.\n“I’m always on a quest to surround my life and live my passion for music.” – Charles Neal
URL:https://davefleschner.com/event/amanda-gresham-presents-festival-after-hours-at-hotel-rose-with-dave-fleschner-2/
LOCATION:Hotel Rose – A Staypineapple Hotel\, 50 SW Morrison St\, Portland\, OR\, United States
END:VEVENT
END:VCALENDAR