BEGIN:VCALENDAR
VERSION:2.0
PRODID:-//Dave Fleschner - ECPv6.15.20//NONSGML v1.0//EN
CALSCALE:GREGORIAN
METHOD:PUBLISH
X-ORIGINAL-URL:https://davefleschner.com
X-WR-CALDESC:Events for Dave Fleschner
REFRESH-INTERVAL;VALUE=DURATION:PT1H
X-Robots-Tag:noindex
X-PUBLISHED-TTL:PT1H
BEGIN:VTIMEZONE
TZID:America/Los_Angeles
BEGIN:DAYLIGHT
TZOFFSETFROM:-0800
TZOFFSETTO:-0700
TZNAME:PDT
DTSTART:20250309T100000
END:DAYLIGHT
BEGIN:STANDARD
TZOFFSETFROM:-0700
TZOFFSETTO:-0800
TZNAME:PST
DTSTART:20251102T090000
END:STANDARD
BEGIN:DAYLIGHT
TZOFFSETFROM:-0800
TZOFFSETTO:-0700
TZNAME:PDT
DTSTART:20260308T100000
END:DAYLIGHT
BEGIN:STANDARD
TZOFFSETFROM:-0700
TZOFFSETTO:-0800
TZNAME:PST
DTSTART:20261101T090000
END:STANDARD
BEGIN:DAYLIGHT
TZOFFSETFROM:-0800
TZOFFSETTO:-0700
TZNAME:PDT
DTSTART:20270314T100000
END:DAYLIGHT
BEGIN:STANDARD
TZOFFSETFROM:-0700
TZOFFSETTO:-0800
TZNAME:PST
DTSTART:20271107T090000
END:STANDARD
END:VTIMEZONE
BEGIN:VEVENT
DTSTART;TZID=America/Los_Angeles:20260521T190000
DTEND;TZID=America/Los_Angeles:20260521T213000
DTSTAMP:20260424T011937
CREATED:20260119T232501Z
LAST-MODIFIED:20260417T030340Z
UID:5701-1779390000-1779399000@davefleschner.com
SUMMARY:The Dave Fleschner Trio
DESCRIPTION:
URL:https://davefleschner.com/event/the-dave-fleschner-trio-6/
LOCATION:Hōkū Events on Madison\, 1125 SE Madison St\, Portland\, OR\, 97214\, United States
END:VEVENT
BEGIN:VEVENT
DTSTART;TZID=America/Los_Angeles:20260611T000000
DTEND;TZID=America/Los_Angeles:20260611T235959
DTSTAMP:20260424T011937
CREATED:20260219T221239Z
LAST-MODIFIED:20260219T221239Z
UID:5834-1781136000-1781222399@davefleschner.com
SUMMARY:Tommy Castro and The Painkillers
DESCRIPTION:For Tickets and Info check:https://www.tommycastro.com/
URL:https://davefleschner.com/event/tommy-castro-and-the-painkillers-43/
LOCATION:Syracuse\, NY\, USA
END:VEVENT
BEGIN:VEVENT
DTSTART;TZID=America/Los_Angeles:20260612T000000
DTEND;TZID=America/Los_Angeles:20260612T235959
DTSTAMP:20260424T011937
CREATED:20260219T221239Z
LAST-MODIFIED:20260219T221239Z
UID:5833-1781222400-1781308799@davefleschner.com
SUMMARY:Tommy Castro and The Painkillers
DESCRIPTION:For Tickets and Info check:https://www.tommycastro.com/
URL:https://davefleschner.com/event/tommy-castro-and-the-painkillers-42/
LOCATION:Salt Lake City\, UT\, USA
END:VEVENT
BEGIN:VEVENT
DTSTART;TZID=America/Los_Angeles:20260616T120000
DTEND;TZID=America/Los_Angeles:20260616T130000
DTSTAMP:20260424T011937
CREATED:20260129T233017Z
LAST-MODIFIED:20260129T233017Z
UID:5717-1781611200-1781614800@davefleschner.com
SUMMARY:PBJ Blues Dancers
DESCRIPTION:
URL:https://davefleschner.com/event/pbj-blues-dancers-2/
LOCATION:OR
END:VEVENT
BEGIN:VEVENT
DTSTART;TZID=America/Los_Angeles:20260616T180000
DTEND;TZID=America/Los_Angeles:20260616T190000
DTSTAMP:20260424T011937
CREATED:20260410T160525Z
LAST-MODIFIED:20260410T160525Z
UID:7221-1781632800-1781636400@davefleschner.com
SUMMARY:The Bundy Band
DESCRIPTION:
URL:https://davefleschner.com/event/the-bundy-band-3/
LOCATION:The Ruins\, 200 13th St\, Hood River\, OR\, United States
END:VEVENT
BEGIN:VEVENT
DTSTART;TZID=America/Los_Angeles:20260619T000000
DTEND;TZID=America/Los_Angeles:20260619T235959
DTSTAMP:20260424T011937
CREATED:20260219T221239Z
LAST-MODIFIED:20260219T221239Z
UID:5836-1781827200-1781913599@davefleschner.com
SUMMARY:Tommy Castro and The Painkillers
DESCRIPTION:For Tickets and Info check:https://www.tommycastro.com/
URL:https://davefleschner.com/event/tommy-castro-and-the-painkillers-44/
LOCATION:WC Handy Blues & Barbecue Festival\, Henderson\, KY\, United States
END:VEVENT
BEGIN:VEVENT
DTSTART;TZID=America/Los_Angeles:20260620T000000
DTEND;TZID=America/Los_Angeles:20260621T235959
DTSTAMP:20260424T011937
CREATED:20260219T221239Z
LAST-MODIFIED:20260219T221239Z
UID:5837-1781913600-1782086399@davefleschner.com
SUMMARY:UBMA Fest 4 All
DESCRIPTION:For More Info Check Out:https://weareunitedbymusic.com/welcome
URL:https://davefleschner.com/event/ubma-fest-4-all/
LOCATION:Gig Harbor\, WA\, USA
END:VEVENT
BEGIN:VEVENT
DTSTART;TZID=America/Los_Angeles:20260722T170000
DTEND;TZID=America/Los_Angeles:20260722T200000
DTSTAMP:20260424T011937
CREATED:20260417T222604Z
LAST-MODIFIED:20260417T222604Z
UID:7242-1784739600-1784750400@davefleschner.com
SUMMARY:Solo
DESCRIPTION:
URL:https://davefleschner.com/event/solo-7/
LOCATION:Meridian Restaurant & Bar\, 42800 Pacific Dr\, Cloverdale\, OR\, United States
END:VEVENT
BEGIN:VEVENT
DTSTART;TZID=America/Los_Angeles:20260826T170000
DTEND;TZID=America/Los_Angeles:20260826T190000
DTSTAMP:20260424T011937
CREATED:20260303T230401Z
LAST-MODIFIED:20260303T230401Z
UID:5854-1787763600-1787770800@davefleschner.com
SUMMARY:Music on the Square with United by Music America
DESCRIPTION:
URL:https://davefleschner.com/event/music-on-the-square-with-united-by-music-america/
LOCATION:University Place Town Center\, Tacoma\, WA\, United States
END:VEVENT
END:VCALENDAR