BEGIN:VCALENDAR
VERSION:2.0
PRODID:-//Dave Fleschner - ECPv6.15.20//NONSGML v1.0//EN
CALSCALE:GREGORIAN
METHOD:PUBLISH
X-ORIGINAL-URL:https://davefleschner.com
X-WR-CALDESC:Events for Dave Fleschner
REFRESH-INTERVAL;VALUE=DURATION:PT1H
X-Robots-Tag:noindex
X-PUBLISHED-TTL:PT1H
BEGIN:VTIMEZONE
TZID:America/Los_Angeles
BEGIN:DAYLIGHT
TZOFFSETFROM:-0800
TZOFFSETTO:-0700
TZNAME:PDT
DTSTART:20250309T100000
END:DAYLIGHT
BEGIN:STANDARD
TZOFFSETFROM:-0700
TZOFFSETTO:-0800
TZNAME:PST
DTSTART:20251102T090000
END:STANDARD
BEGIN:DAYLIGHT
TZOFFSETFROM:-0800
TZOFFSETTO:-0700
TZNAME:PDT
DTSTART:20260308T100000
END:DAYLIGHT
BEGIN:STANDARD
TZOFFSETFROM:-0700
TZOFFSETTO:-0800
TZNAME:PST
DTSTART:20261101T090000
END:STANDARD
BEGIN:DAYLIGHT
TZOFFSETFROM:-0800
TZOFFSETTO:-0700
TZNAME:PDT
DTSTART:20270314T100000
END:DAYLIGHT
BEGIN:STANDARD
TZOFFSETFROM:-0700
TZOFFSETTO:-0800
TZNAME:PST
DTSTART:20271107T090000
END:STANDARD
END:VTIMEZONE
BEGIN:VEVENT
DTSTART;TZID=America/Los_Angeles:20260401T170000
DTEND;TZID=America/Los_Angeles:20260401T200000
DTSTAMP:20260424T011941
CREATED:20260226T230104Z
LAST-MODIFIED:20260326T070540Z
UID:5847-1775062800-1775073600@davefleschner.com
SUMMARY:Solo
DESCRIPTION:  \n  \n  \n  \n  \n  \n  \nhttps://www.facebook.com/events/916483604687477
URL:https://davefleschner.com/event/solo-6/
LOCATION:Meridian Restaurant & Bar\, 42800 Pacific Dr\, Cloverdale\, OR\, United States
END:VEVENT
BEGIN:VEVENT
DTSTART;TZID=America/Los_Angeles:20260402T190000
DTEND;TZID=America/Los_Angeles:20260402T213000
DTSTAMP:20260424T011941
CREATED:20260124T233156Z
LAST-MODIFIED:20260326T065242Z
UID:5708-1775156400-1775165400@davefleschner.com
SUMMARY:Dave Fleschner with Alan Hager\, Dan Gildea and Edwin Coleman III
DESCRIPTION:Tickets: $15 \nCLICK HERE TO BUY TICKETS!!!  \nThe Dave Fleschner Trio (Dan Gildea & Edwin Coleman III) with special guest Alan Hager \nDave is back (from touring with Tommy Castro & the Painkillers) for a quick show! \nAlan first picked up a guitar at age ten and became a blues and jazz prodigy. He was playing local clubs as a teenager before heading to Boston’s Berklee School Of Music\, where he studied under the tutelage of jazz guitar legend Pat Metheny. A year later he was studying classical music at the famed New England Conservatory of Music\, where he graduated in 1979. During the 1980s he toured as part of a classical guitar duo and took up teaching\, which he still does. But he never fell out of love with the blues\, especially the old Delta sounds of Charlie Patton\, Tommy Johnson and Skip James. \nWith a 40 year long performance career\, and a 25 year career in music education\, Dave Fleschner is passionate about sharing his love of music with the younger generation.\nDave has played music with B.B. King\, Steve Miller\, The Pointer Sisters\, Bobby Rush\, Kingfish and toured the world playing blues and roots festivals with Curtis Salgado\, John Nemeth\, Karen Lovely\, Earl Thomas and United by Music America.\nhttps://davefleschner.com/
URL:https://davefleschner.com/event/dave-fleschners-blues-cabaret-2/
LOCATION:Hōkū Events on Madison\, 1125 SE Madison St\, Portland\, OR\, 97214\, United States
END:VEVENT
BEGIN:VEVENT
DTSTART;TZID=America/Los_Angeles:20260404T190000
DTEND;TZID=America/Los_Angeles:20260404T220000
DTSTAMP:20260424T011941
CREATED:20260103T221435Z
LAST-MODIFIED:20260103T221435Z
UID:5661-1775329200-1775340000@davefleschner.com
SUMMARY:Idle Poets
DESCRIPTION:
URL:https://davefleschner.com/event/idle-poets-22/
LOCATION:Conway’s House Of Jazz\, 16100 SE 82nd Dr\, Clackamas\, OR\, United States
END:VEVENT
BEGIN:VEVENT
DTSTART;TZID=America/Los_Angeles:20260410T000000
DTEND;TZID=America/Los_Angeles:20260410T235959
DTSTAMP:20260424T011941
CREATED:20260219T221238Z
LAST-MODIFIED:20260219T221238Z
UID:5790-1775779200-1775865599@davefleschner.com
SUMMARY:Tommy Castro and The Painkillers
DESCRIPTION:For Tickets and Info check:https://www.tommycastro.com/
URL:https://davefleschner.com/event/tommy-castro-and-the-painkillers-20/
LOCATION:Tampa Bay\, Florida\, USA
END:VEVENT
BEGIN:VEVENT
DTSTART;TZID=America/Los_Angeles:20260411T000000
DTEND;TZID=America/Los_Angeles:20260411T235959
DTSTAMP:20260424T011941
CREATED:20260219T221238Z
LAST-MODIFIED:20260219T221238Z
UID:5788-1775865600-1775951999@davefleschner.com
SUMMARY:Tommy Castro and The Painkillers
DESCRIPTION:For Tickets and info check:https://www.tommycastro.com/
URL:https://davefleschner.com/event/tommy-castro-and-the-painkillers-19/
LOCATION:Maxwell C. King Center for the Performing Arts\, 3865 N Wickham Rd\, Melbourne\, FL\, United States
END:VEVENT
BEGIN:VEVENT
DTSTART;TZID=America/Los_Angeles:20260412T000000
DTEND;TZID=America/Los_Angeles:20260412T235959
DTSTAMP:20260424T011941
CREATED:20260219T221238Z
LAST-MODIFIED:20260219T221238Z
UID:5786-1775952000-1776038399@davefleschner.com
SUMMARY:Tommy Castro and The Painkillers
DESCRIPTION:For Tickets and Info check:https://www.tommycastro.com/
URL:https://davefleschner.com/event/tommy-castro-and-the-painkillers-18/
LOCATION:Ponte Vedra Concert Hall\, 698 A St\, Emporia\, FL\, United States
END:VEVENT
BEGIN:VEVENT
DTSTART;TZID=America/Los_Angeles:20260414T000000
DTEND;TZID=America/Los_Angeles:20260414T235959
DTSTAMP:20260424T011941
CREATED:20260219T221238Z
LAST-MODIFIED:20260219T221238Z
UID:5794-1776124800-1776211199@davefleschner.com
SUMMARY:Tommy Castro and The Painkillers
DESCRIPTION:For Tickets and Info check:https://www.tommycastro.com/
URL:https://davefleschner.com/event/tommy-castro-and-the-painkillers-22/
LOCATION:Eddie’s Attic\, 515 N McDonough St\, Decatur\, GA\, United States
END:VEVENT
BEGIN:VEVENT
DTSTART;TZID=America/Los_Angeles:20260415T000000
DTEND;TZID=America/Los_Angeles:20260415T235959
DTSTAMP:20260424T011941
CREATED:20260219T221238Z
LAST-MODIFIED:20260219T221238Z
UID:5792-1776211200-1776297599@davefleschner.com
SUMMARY:Tommy Castro and The Painkillers
DESCRIPTION:For Tickets and Info check:https://www.tommycastro.com/
URL:https://davefleschner.com/event/tommy-castro-and-the-painkillers-21/
LOCATION:The Radio Room\, 28 Liberty Ln\, Greenville\, SC\, United States
END:VEVENT
BEGIN:VEVENT
DTSTART;TZID=America/Los_Angeles:20260417T000000
DTEND;TZID=America/Los_Angeles:20260417T235959
DTSTAMP:20260424T011941
CREATED:20260219T221238Z
LAST-MODIFIED:20260219T221238Z
UID:5798-1776384000-1776470399@davefleschner.com
SUMMARY:Tommy Castro and The Painkillers
DESCRIPTION:For Tickets and Info check:https://www.tommycastro.com/
URL:https://davefleschner.com/event/tommy-castro-and-the-painkillers-24/
LOCATION:The Blue Note Grill\, 709 Washington St\, Durham\, NC\, United States
END:VEVENT
BEGIN:VEVENT
DTSTART;TZID=America/Los_Angeles:20260418T000000
DTEND;TZID=America/Los_Angeles:20260418T235959
DTSTAMP:20260424T011941
CREATED:20260219T221238Z
LAST-MODIFIED:20260219T221238Z
UID:5796-1776470400-1776556799@davefleschner.com
SUMMARY:Tommy Castro and The Painkillers
DESCRIPTION:For Tickets and Info check:https://www.tommycastro.com/
URL:https://davefleschner.com/event/tommy-castro-and-the-painkillers-23/
LOCATION:Richmond Music Hall\, 619 E Main St\, Richmond\, VA\, United States
END:VEVENT
BEGIN:VEVENT
DTSTART;TZID=America/Los_Angeles:20260419T000000
DTEND;TZID=America/Los_Angeles:20260419T235959
DTSTAMP:20260424T011941
CREATED:20260219T221238Z
LAST-MODIFIED:20260219T221238Z
UID:5800-1776556800-1776643199@davefleschner.com
SUMMARY:Tommy Castro and The Painkillers
DESCRIPTION:For Tickets and Info check:https://www.tommycastro.com/
URL:https://davefleschner.com/event/tommy-castro-and-the-painkillers-25/
LOCATION:Rams Head Tavern\, 34 West St\, Annapolis\, MD\, United States
END:VEVENT
BEGIN:VEVENT
DTSTART;TZID=America/Los_Angeles:20260421T000000
DTEND;TZID=America/Los_Angeles:20260421T235959
DTSTAMP:20260424T011941
CREATED:20260219T221238Z
LAST-MODIFIED:20260219T221238Z
UID:5802-1776729600-1776815999@davefleschner.com
SUMMARY:Tommy Castro and The Painkillers
DESCRIPTION:For Tickets and Info check:https://www.tommycastro.com/
URL:https://davefleschner.com/event/tommy-castro-and-the-painkillers-26/
LOCATION:Sellersville Theater\, 24 W Temple Ave\, Sellersville\, PA\, United States
END:VEVENT
BEGIN:VEVENT
DTSTART;TZID=America/Los_Angeles:20260422T203000
DTEND;TZID=America/Los_Angeles:20260422T220000
DTSTAMP:20260424T011941
CREATED:20260219T221238Z
LAST-MODIFIED:20260219T221238Z
UID:5804-1776889800-1776895200@davefleschner.com
SUMMARY:Tommy Castro and The Painkillers
DESCRIPTION:For Tickets and Info check:https://www.tommycastro.com/
URL:https://davefleschner.com/event/tommy-castro-and-the-painkillers-27/
LOCATION:The Iridium\, 1650 Broadway\, New York\, NY\, United States
END:VEVENT
BEGIN:VEVENT
DTSTART;TZID=America/Los_Angeles:20260423T000000
DTEND;TZID=America/Los_Angeles:20260423T235959
DTSTAMP:20260424T011941
CREATED:20260219T221238Z
LAST-MODIFIED:20260219T221238Z
UID:5806-1776902400-1776988799@davefleschner.com
SUMMARY:Tommy Castro and The Painkillers
DESCRIPTION:For Tickets and Info check:https://www.tommycastro.com/
URL:https://davefleschner.com/event/tommy-castro-and-the-painkillers-28/
LOCATION:Narrows Center for the Arts\, 16 Anawan St\, Fall River\, MA\, United States
END:VEVENT
BEGIN:VEVENT
DTSTART;TZID=America/Los_Angeles:20260424T000000
DTEND;TZID=America/Los_Angeles:20260424T235959
DTSTAMP:20260424T011941
CREATED:20260219T221238Z
LAST-MODIFIED:20260219T221238Z
UID:5808-1776988800-1777075199@davefleschner.com
SUMMARY:Tommy Castro and The Painkillers
DESCRIPTION:For Tickets and Info check:https://www.tommycastro.com/
URL:https://davefleschner.com/event/tommy-castro-and-the-painkillers-29/
LOCATION:Jimmy’s Jazz & Blues Club\, 126 Congress St\, Portsmouth\, NH\, United States
END:VEVENT
BEGIN:VEVENT
DTSTART;TZID=America/Los_Angeles:20260425T000000
DTEND;TZID=America/Los_Angeles:20260425T235959
DTSTAMP:20260424T011941
CREATED:20260219T221238Z
LAST-MODIFIED:20260219T221238Z
UID:5810-1777075200-1777161599@davefleschner.com
SUMMARY:Tommy Castro and The Painkillers
DESCRIPTION:For Tickets and Info check:https://www.tommycastro.com/
URL:https://davefleschner.com/event/tommy-castro-and-the-painkillers-30/
LOCATION:Katharine Hepburn Cultural Arts Center\, 300 Main St\, Old Saybrook\, CT\, United States
END:VEVENT
BEGIN:VEVENT
DTSTART;TZID=America/Los_Angeles:20260426T000000
DTEND;TZID=America/Los_Angeles:20260426T235959
DTSTAMP:20260424T011941
CREATED:20260219T221238Z
LAST-MODIFIED:20260219T221238Z
UID:5812-1777161600-1777247999@davefleschner.com
SUMMARY:Tommy Castro and The Painkillers
DESCRIPTION:For Tickets and Info check:https://www.tommycastro.com/
URL:https://davefleschner.com/event/tommy-castro-and-the-painkillers-31/
LOCATION:The Parting Glass\, 42 Lake Ave\, Saratoga Springs\, NY\, United States
END:VEVENT
BEGIN:VEVENT
DTSTART;TZID=America/Los_Angeles:20260427T000000
DTEND;TZID=America/Los_Angeles:20260427T235959
DTSTAMP:20260424T011941
CREATED:20260219T221238Z
LAST-MODIFIED:20260219T221238Z
UID:5814-1777248000-1777334399@davefleschner.com
SUMMARY:Tommy Castro and The Painkillers
DESCRIPTION:For Tickets and Info check:https://www.tommycastro.com/
URL:https://davefleschner.com/event/tommy-castro-and-the-painkillers-32/
LOCATION:Syracuse\, NY\, USA
END:VEVENT
BEGIN:VEVENT
DTSTART;TZID=America/Los_Angeles:20260428T000000
DTEND;TZID=America/Los_Angeles:20260428T235959
DTSTAMP:20260424T011941
CREATED:20260219T221238Z
LAST-MODIFIED:20260219T221238Z
UID:5817-1777334400-1777420799@davefleschner.com
SUMMARY:Tommy Castro and The Painkillers
DESCRIPTION:For Tickets and Info check:https://www.tommycastro.com/
URL:https://davefleschner.com/event/tommy-castro-and-the-painkillers-34/
LOCATION:Fanatics Pub\, 7281 W Main St\, Lima\, NY\, United States
END:VEVENT
BEGIN:VEVENT
DTSTART;TZID=America/Los_Angeles:20260429T000000
DTEND;TZID=America/Los_Angeles:20260429T235959
DTSTAMP:20260424T011941
CREATED:20260219T221238Z
LAST-MODIFIED:20260219T221238Z
UID:5816-1777420800-1777507199@davefleschner.com
SUMMARY:Tommy Castro and The Painkillers
DESCRIPTION:For Tickets and Info check:https://www.tommycastro.com/
URL:https://davefleschner.com/event/tommy-castro-and-the-painkillers-33/
LOCATION:Fanatics Pub\, 7281 W Main St\, Lima\, NY\, United States
END:VEVENT
BEGIN:VEVENT
DTSTART;TZID=America/Los_Angeles:20260501T000000
DTEND;TZID=America/Los_Angeles:20260501T235959
DTSTAMP:20260424T011941
CREATED:20260219T221239Z
LAST-MODIFIED:20260219T221239Z
UID:5819-1777593600-1777679999@davefleschner.com
SUMMARY:Tommy Castro and The Painkillers
DESCRIPTION:For Tickets and Info check:https://www.tommycastro.com/
URL:https://davefleschner.com/event/tommy-castro-and-the-painkillers-35/
LOCATION:Natalie’s Grandview\, 945 King Ave\, Columbus\, OH\, United States
END:VEVENT
BEGIN:VEVENT
DTSTART;TZID=America/Los_Angeles:20260502T000000
DTEND;TZID=America/Los_Angeles:20260502T235959
DTSTAMP:20260424T011941
CREATED:20260219T221239Z
LAST-MODIFIED:20260219T221239Z
UID:5823-1777680000-1777766399@davefleschner.com
SUMMARY:Tommy Castro and The Painkillers
DESCRIPTION:For Tickets and Info check:https://www.tommycastro.com/
URL:https://davefleschner.com/event/tommy-castro-and-the-painkillers-37/
LOCATION:The Southgate House Revival\, 111 E 6th St\, Newport\, KY\, United States
END:VEVENT
BEGIN:VEVENT
DTSTART;TZID=America/Los_Angeles:20260503T000000
DTEND;TZID=America/Los_Angeles:20260503T235959
DTSTAMP:20260424T011941
CREATED:20260219T221239Z
LAST-MODIFIED:20260219T221239Z
UID:5821-1777766400-1777852799@davefleschner.com
SUMMARY:Tommy Castro and The Painkillers
DESCRIPTION:For Tickets and Info check:https://www.tommycastro.com/
URL:https://davefleschner.com/event/tommy-castro-and-the-painkillers-36/
LOCATION:Music Box Supper Club\, 1148 Main Ave\, Cleveland\, OH\, United States
END:VEVENT
BEGIN:VEVENT
DTSTART;TZID=America/Los_Angeles:20260505T000000
DTEND;TZID=America/Los_Angeles:20260505T235959
DTSTAMP:20260424T011941
CREATED:20260219T221239Z
LAST-MODIFIED:20260219T221239Z
UID:5825-1777939200-1778025599@davefleschner.com
SUMMARY:Tommy Castro and The Painkillers
DESCRIPTION:For Tickets and Info check:https://www.tommycastro.com/
URL:https://davefleschner.com/event/tommy-castro-and-the-painkillers-38/
LOCATION:Evanston SPACE\, 1243 Chicago Ave\, Evanston\, IL\, United States
END:VEVENT
BEGIN:VEVENT
DTSTART;TZID=America/Los_Angeles:20260506T000000
DTEND;TZID=America/Los_Angeles:20260506T235959
DTSTAMP:20260424T011941
CREATED:20260219T221239Z
LAST-MODIFIED:20260219T221239Z
UID:5829-1778025600-1778111999@davefleschner.com
SUMMARY:Tommy Castro and The Painkillers
DESCRIPTION:For Tickets and Info check:https://www.tommycastro.com/
URL:https://davefleschner.com/event/tommy-castro-and-the-painkillers-40/
LOCATION:Shank Hall\, 1434 N Farwell Ave\, Milwaukee\, WI\, United States
END:VEVENT
BEGIN:VEVENT
DTSTART;TZID=America/Los_Angeles:20260507T000000
DTEND;TZID=America/Los_Angeles:20260507T235959
DTSTAMP:20260424T011941
CREATED:20260219T221239Z
LAST-MODIFIED:20260219T221239Z
UID:5827-1778112000-1778198399@davefleschner.com
SUMMARY:Tommy Castro and The Painkillers
DESCRIPTION:For Tickets and Info check:https://www.tommycastro.com/
URL:https://davefleschner.com/event/tommy-castro-and-the-painkillers-39/
LOCATION:Stoughton Opera House\, 381 E Main St\, Stoughton\, WI\, United States
END:VEVENT
BEGIN:VEVENT
DTSTART;TZID=America/Los_Angeles:20260509T000000
DTEND;TZID=America/Los_Angeles:20260509T235959
DTSTAMP:20260424T011941
CREATED:20260219T221239Z
LAST-MODIFIED:20260219T221239Z
UID:5831-1778284800-1778371199@davefleschner.com
SUMMARY:Tommy Castro and The Painkillers
DESCRIPTION:For Tickets and Info check:https://www.tommycastro.com/
URL:https://davefleschner.com/event/tommy-castro-and-the-painkillers-41/
LOCATION:Reverb Lounge\, 6121 Military Ave\, Omaha\, NE\, United States
END:VEVENT
BEGIN:VEVENT
DTSTART;TZID=America/Los_Angeles:20260521T190000
DTEND;TZID=America/Los_Angeles:20260521T213000
DTSTAMP:20260424T011941
CREATED:20260119T232501Z
LAST-MODIFIED:20260417T030340Z
UID:5701-1779390000-1779399000@davefleschner.com
SUMMARY:The Dave Fleschner Trio
DESCRIPTION:
URL:https://davefleschner.com/event/the-dave-fleschner-trio-6/
LOCATION:Hōkū Events on Madison\, 1125 SE Madison St\, Portland\, OR\, 97214\, United States
END:VEVENT
BEGIN:VEVENT
DTSTART;TZID=America/Los_Angeles:20260611T000000
DTEND;TZID=America/Los_Angeles:20260611T235959
DTSTAMP:20260424T011941
CREATED:20260219T221239Z
LAST-MODIFIED:20260219T221239Z
UID:5834-1781136000-1781222399@davefleschner.com
SUMMARY:Tommy Castro and The Painkillers
DESCRIPTION:For Tickets and Info check:https://www.tommycastro.com/
URL:https://davefleschner.com/event/tommy-castro-and-the-painkillers-43/
LOCATION:Syracuse\, NY\, USA
END:VEVENT
BEGIN:VEVENT
DTSTART;TZID=America/Los_Angeles:20260612T000000
DTEND;TZID=America/Los_Angeles:20260612T235959
DTSTAMP:20260424T011941
CREATED:20260219T221239Z
LAST-MODIFIED:20260219T221239Z
UID:5833-1781222400-1781308799@davefleschner.com
SUMMARY:Tommy Castro and The Painkillers
DESCRIPTION:For Tickets and Info check:https://www.tommycastro.com/
URL:https://davefleschner.com/event/tommy-castro-and-the-painkillers-42/
LOCATION:Salt Lake City\, UT\, USA
END:VEVENT
END:VCALENDAR