BEGIN:VCALENDAR
VERSION:2.0
PRODID:-//Dave Fleschner - ECPv6.15.20//NONSGML v1.0//EN
CALSCALE:GREGORIAN
METHOD:PUBLISH
X-WR-CALNAME:Dave Fleschner
X-ORIGINAL-URL:https://davefleschner.com
X-WR-CALDESC:Events for Dave Fleschner
REFRESH-INTERVAL;VALUE=DURATION:PT1H
X-Robots-Tag:noindex
X-PUBLISHED-TTL:PT1H
BEGIN:VTIMEZONE
TZID:America/Los_Angeles
BEGIN:DAYLIGHT
TZOFFSETFROM:-0800
TZOFFSETTO:-0700
TZNAME:PDT
DTSTART:20250309T100000
END:DAYLIGHT
BEGIN:STANDARD
TZOFFSETFROM:-0700
TZOFFSETTO:-0800
TZNAME:PST
DTSTART:20251102T090000
END:STANDARD
BEGIN:DAYLIGHT
TZOFFSETFROM:-0800
TZOFFSETTO:-0700
TZNAME:PDT
DTSTART:20260308T100000
END:DAYLIGHT
BEGIN:STANDARD
TZOFFSETFROM:-0700
TZOFFSETTO:-0800
TZNAME:PST
DTSTART:20261101T090000
END:STANDARD
BEGIN:DAYLIGHT
TZOFFSETFROM:-0800
TZOFFSETTO:-0700
TZNAME:PDT
DTSTART:20270314T100000
END:DAYLIGHT
BEGIN:STANDARD
TZOFFSETFROM:-0700
TZOFFSETTO:-0800
TZNAME:PST
DTSTART:20271107T090000
END:STANDARD
END:VTIMEZONE
BEGIN:VEVENT
DTSTART;TZID=America/Los_Angeles:20260108T190000
DTEND;TZID=America/Los_Angeles:20260108T213000
DTSTAMP:20260423T230944
CREATED:20251230T210314Z
LAST-MODIFIED:20251230T212019Z
UID:5642-1767898800-1767907800@davefleschner.com
SUMMARY:The Dave Fleschner Trio Plays Blues\, Sleeperwave Opening
DESCRIPTION:https://aftontickets.com/event/buyticket/1qjwvp8197 \n \nSleeper Wave\, the Cascade Blues Association’s representatives at the International Blues Challenge in Memphis opens for The Dave Fleschner Trio. \nThe Dave Fleschner Trio will be playing blues classics as well as the bluesier compositions from Dave Fleschner’s Catalogue. \nThis will be your last chance to catch Sleeper Wave and support them before they head to Memphis to represent Portland. \nHōkū Events on Madison\n1225 SE Madison\nPortland\, OR\nThursday\, January 8 at 7:00 PM\, Doors at 6:30 \n$15 \nThe Dave Fleschner Trio: \n◦ Very inventive and swingin’ – Mike Finnigan\n◦ Dave is . . killin’ it on there. The songs are great! – Curtis Salgado \nDave\, Dan Gildea and Charlie Doggett have been making music together for decades. This trio begins with the vehicles for improvisation – a range of original tunes from Dave’s catalogue\, as well as a variety of jazz classics. Well versed in the old school organ trio tradition of Jimmy Smith\, Jack McDuff\, Groove Holmes and Don Padderson\, the Dave Fleschner trio has a modern approach to this canon\, drawing inspiration from artists as varied as Herbie Hancock and Ornette Coleman. You’ll find funk\, soul\, blues and world music influences in their special blend of groove-based improvisation.
URL:https://davefleschner.com/event/the-dave-fleschner-trio-plays-blues-sleeperwave-opening/
LOCATION:Hōkū Events on Madison\, 1125 SE Madison St\, Portland\, OR\, 97214\, United States
END:VEVENT
END:VCALENDAR