BEGIN:VCALENDAR
VERSION:2.0
PRODID:-//Dave Fleschner - ECPv6.15.20//NONSGML v1.0//EN
CALSCALE:GREGORIAN
METHOD:PUBLISH
X-WR-CALNAME:Dave Fleschner
X-ORIGINAL-URL:https://davefleschner.com
X-WR-CALDESC:Events for Dave Fleschner
REFRESH-INTERVAL;VALUE=DURATION:PT1H
X-Robots-Tag:noindex
X-PUBLISHED-TTL:PT1H
BEGIN:VTIMEZONE
TZID:America/Los_Angeles
BEGIN:DAYLIGHT
TZOFFSETFROM:-0800
TZOFFSETTO:-0700
TZNAME:PDT
DTSTART:20250309T100000
END:DAYLIGHT
BEGIN:STANDARD
TZOFFSETFROM:-0700
TZOFFSETTO:-0800
TZNAME:PST
DTSTART:20251102T090000
END:STANDARD
BEGIN:DAYLIGHT
TZOFFSETFROM:-0800
TZOFFSETTO:-0700
TZNAME:PDT
DTSTART:20260308T100000
END:DAYLIGHT
BEGIN:STANDARD
TZOFFSETFROM:-0700
TZOFFSETTO:-0800
TZNAME:PST
DTSTART:20261101T090000
END:STANDARD
BEGIN:DAYLIGHT
TZOFFSETFROM:-0800
TZOFFSETTO:-0700
TZNAME:PDT
DTSTART:20270314T100000
END:DAYLIGHT
BEGIN:STANDARD
TZOFFSETFROM:-0700
TZOFFSETTO:-0800
TZNAME:PST
DTSTART:20271107T090000
END:STANDARD
END:VTIMEZONE
BEGIN:VEVENT
DTSTART;TZID=America/Los_Angeles:20260107T083000
DTEND;TZID=America/Los_Angeles:20260107T093000
DTSTAMP:20260423T232048
CREATED:20251230T210313Z
LAST-MODIFIED:20251230T210313Z
UID:5641-1767774600-1767778200@davefleschner.com
SUMMARY:Sleeperwave on KOIN 6 News
DESCRIPTION:Check out KOIN 6 news to see the Youth Band I’m coaching\, Sleeperwave perform live on the air and give their first TV Interview
URL:https://davefleschner.com/event/sleeperwave-on-koin-6-news/
LOCATION:Television
END:VEVENT
BEGIN:VEVENT
DTSTART;TZID=America/Los_Angeles:20260107T183000
DTEND;TZID=America/Los_Angeles:20260107T210000
DTSTAMP:20260423T232048
CREATED:20251230T210430Z
LAST-MODIFIED:20251230T210430Z
UID:5646-1767810600-1767819600@davefleschner.com
SUMMARY:Dave Fleschner Solo at Cascade Blues Association Monthly Meeting
DESCRIPTION:
URL:https://davefleschner.com/event/dave-fleschner-solo-at-cascade-blues-association-monthly-meeting/
LOCATION:Mekong Bistro\, 8600 NE Siskiyou St\, Portland\, OR\, United States
END:VEVENT
END:VCALENDAR