BEGIN:VCALENDAR
VERSION:2.0
PRODID:-//Dave Fleschner - ECPv6.15.20//NONSGML v1.0//EN
CALSCALE:GREGORIAN
METHOD:PUBLISH
X-ORIGINAL-URL:https://davefleschner.com
X-WR-CALDESC:Events for Dave Fleschner
REFRESH-INTERVAL;VALUE=DURATION:PT1H
X-Robots-Tag:noindex
X-PUBLISHED-TTL:PT1H
BEGIN:VTIMEZONE
TZID:America/Los_Angeles
BEGIN:DAYLIGHT
TZOFFSETFROM:-0800
TZOFFSETTO:-0700
TZNAME:PDT
DTSTART:20250309T100000
END:DAYLIGHT
BEGIN:STANDARD
TZOFFSETFROM:-0700
TZOFFSETTO:-0800
TZNAME:PST
DTSTART:20251102T090000
END:STANDARD
BEGIN:DAYLIGHT
TZOFFSETFROM:-0800
TZOFFSETTO:-0700
TZNAME:PDT
DTSTART:20260308T100000
END:DAYLIGHT
BEGIN:STANDARD
TZOFFSETFROM:-0700
TZOFFSETTO:-0800
TZNAME:PST
DTSTART:20261101T090000
END:STANDARD
BEGIN:DAYLIGHT
TZOFFSETFROM:-0800
TZOFFSETTO:-0700
TZNAME:PDT
DTSTART:20270314T100000
END:DAYLIGHT
BEGIN:STANDARD
TZOFFSETFROM:-0700
TZOFFSETTO:-0800
TZNAME:PST
DTSTART:20271107T090000
END:STANDARD
END:VTIMEZONE
BEGIN:VEVENT
DTSTART;TZID=America/Los_Angeles:20260104T163000
DTEND;TZID=America/Los_Angeles:20260104T200000
DTSTAMP:20260423T232512
CREATED:20251230T211300Z
LAST-MODIFIED:20251231T061756Z
UID:5647-1767544200-1767556800@davefleschner.com
SUMMARY:Sleeper Wave Fund Raiser feat. Nikki Jones and Lilla
DESCRIPTION:Memphis sendoff fundraiser for the CBA J2M Youth Winner\, Sleeper Wave!\nSleeper Wave is Cameron Kirkman on guitar/vocals\, Jonah Bradbury on keys\, Juliette Bull on bass\, and Evan Shumate on drums\n\nAlso featuring performance by:LillaNikki Jones Band\n\nWhat:Cascade Blues Association International Blues Challenge Youth Showcase FundraiserRaffle and Silent Auction!\n\nWhere:Old Market Pub6959 SW Multnomah Blvd. Portland\, OR 97223https://www.drinkbeerhere.com/\n\nWhen:Sunday\, January 45:00 PM\, doors at 4:305:00 – 5:30 Lilla5:45 -6:15 Nikki Jones Band6:30 – 7:30 Sleeper Wave7:30 – 8:00 Jam with Dave Fleschner and Rae Gordon
URL:https://davefleschner.com/event/sleeper-wave-fund-raiser-feat-nikki-jones-and-lilla/
LOCATION:OR
END:VEVENT
END:VCALENDAR