BEGIN:VCALENDAR
VERSION:2.0
PRODID:-//Dave Fleschner - ECPv6.15.20//NONSGML v1.0//EN
CALSCALE:GREGORIAN
METHOD:PUBLISH
X-WR-CALNAME:Dave Fleschner
X-ORIGINAL-URL:https://davefleschner.com
X-WR-CALDESC:Events for Dave Fleschner
REFRESH-INTERVAL;VALUE=DURATION:PT1H
X-Robots-Tag:noindex
X-PUBLISHED-TTL:PT1H
BEGIN:VTIMEZONE
TZID:America/Los_Angeles
BEGIN:DAYLIGHT
TZOFFSETFROM:-0800
TZOFFSETTO:-0700
TZNAME:PDT
DTSTART:20240310T100000
END:DAYLIGHT
BEGIN:STANDARD
TZOFFSETFROM:-0700
TZOFFSETTO:-0800
TZNAME:PST
DTSTART:20241103T090000
END:STANDARD
BEGIN:DAYLIGHT
TZOFFSETFROM:-0800
TZOFFSETTO:-0700
TZNAME:PDT
DTSTART:20250309T100000
END:DAYLIGHT
BEGIN:STANDARD
TZOFFSETFROM:-0700
TZOFFSETTO:-0800
TZNAME:PST
DTSTART:20251102T090000
END:STANDARD
BEGIN:DAYLIGHT
TZOFFSETFROM:-0800
TZOFFSETTO:-0700
TZNAME:PDT
DTSTART:20260308T100000
END:DAYLIGHT
BEGIN:STANDARD
TZOFFSETFROM:-0700
TZOFFSETTO:-0800
TZNAME:PST
DTSTART:20261101T090000
END:STANDARD
END:VTIMEZONE
BEGIN:VEVENT
DTSTART;TZID=America/Los_Angeles:20250612T190000
DTEND;TZID=America/Los_Angeles:20250612T213000
DTSTAMP:20260424T110422
CREATED:20250523T224207Z
LAST-MODIFIED:20250610T092541Z
UID:1756-1749754800-1749763800@davefleschner.com
SUMMARY:The Dave Fleschner Trio Featuring Josh Fulero and more!!!
DESCRIPTION:The Dave Fleschner Trio\nDoors at 6:30Music from 7:00 ’til 10:00\nSliding Scale at the door\, $15-20 recommended\n\nThe Dave Fleschner Trio will perform a short set\, and then open it up to friends of Dave’s who have been invited to sit in with the band\, with Dan Gildea on Guitar and Charlie Doggett on Drums.\n\nYou never know who’s going to stop by\, If you caught Dave’s Birthday Party at Catfish Lou’s last year\, you know it will be a mix of great players in a variety of styles.\n\nDave Fleschner performs routinely around the world. He’s worked with countless Grammy Winning artists\, jazz masters\, rock stars\, blues icons\, soul legends\, as well as the Portland Symphony Orchestra and the Portland Gay Men’s Chorus.\nNotably\, he has worked with Grammy Winning artists: B.B. King\, The Pointer Sisters\, Steve Miller\, Christone “Kingfish” Ingram\, Bobby Rush\, Chubby Carrier and The Portland Symphony Orchestra.\n\nHe has toured internationally with Curtis Salgado\, John Nemeth\, Kara Granger\, Karen Lovely\, Earl Thomas and United by Music North America. Fleschner’s song “I Want to love you” was in contention for Grammy Nomination by two different artists in the same year. He has released several albums as a band leader – and countless albums as a producer\, sideman and band member. In demand as a producer\, composer\, songwriter\, orchestrater\, arranger\, music director\, side man and educator\, Fleschner’s music displays a deep understanding of American roots music.\n\n\n◦ Very inventive and swingin’ Mike Finnigan – Master Organist/Pianist◦ Dave is . . killin’ it on there. The songs are great! Curtis Salgado◦ Fleschner has a strong vision’ and has more than demonstrated his abilities. Marty Hughley\, The Oregonian◦ Dave Fleschner’ has his act wired tight\, oozing soulful pulp all over the place. John Chandler\, Portland Tribune◦ Dave plays ‘ with a vengeance and fury. Bob Cooper\, On-line Musicnet◦ Dave has a unique musical voice. Mary Burlingame\, KMHD Radio 89.1fm◦ Very versatile! Touring with soul man Curtis Salgado shows\, and the jazz swings in a 21st Century way! Tom D’Antoni\, Editor ‘ Oregon Music News
URL:https://davefleschner.com/event/the-dave-fleschner-trio-2/
LOCATION:Hōkū Events on Madison\, 1125 SE Madison St\, Portland\, OR\, 97214\, United States
END:VEVENT
END:VCALENDAR