BEGIN:VCALENDAR
VERSION:2.0
PRODID:-//Dave Fleschner - ECPv6.15.20//NONSGML v1.0//EN
CALSCALE:GREGORIAN
METHOD:PUBLISH
X-WR-CALNAME:Dave Fleschner
X-ORIGINAL-URL:https://davefleschner.com
X-WR-CALDESC:Events for Dave Fleschner
REFRESH-INTERVAL;VALUE=DURATION:PT1H
X-Robots-Tag:noindex
X-PUBLISHED-TTL:PT1H
BEGIN:VTIMEZONE
TZID:America/Los_Angeles
BEGIN:DAYLIGHT
TZOFFSETFROM:-0800
TZOFFSETTO:-0700
TZNAME:PDT
DTSTART:20240310T100000
END:DAYLIGHT
BEGIN:STANDARD
TZOFFSETFROM:-0700
TZOFFSETTO:-0800
TZNAME:PST
DTSTART:20241103T090000
END:STANDARD
BEGIN:DAYLIGHT
TZOFFSETFROM:-0800
TZOFFSETTO:-0700
TZNAME:PDT
DTSTART:20250309T100000
END:DAYLIGHT
BEGIN:STANDARD
TZOFFSETFROM:-0700
TZOFFSETTO:-0800
TZNAME:PST
DTSTART:20251102T090000
END:STANDARD
BEGIN:DAYLIGHT
TZOFFSETFROM:-0800
TZOFFSETTO:-0700
TZNAME:PDT
DTSTART:20260308T100000
END:DAYLIGHT
BEGIN:STANDARD
TZOFFSETFROM:-0700
TZOFFSETTO:-0800
TZNAME:PST
DTSTART:20261101T090000
END:STANDARD
END:VTIMEZONE
BEGIN:VEVENT
DTSTART;TZID=America/Los_Angeles:20250601T090000
DTEND;TZID=America/Los_Angeles:20250606T100000
DTSTAMP:20260424T110423
CREATED:20241117T071234Z
LAST-MODIFIED:20250402T114818Z
UID:447-1748768400-1749204000@davefleschner.com
SUMMARY:Crawfish fest
DESCRIPTION:
URL:https://davefleschner.com/event/crawfish-fest/
LOCATION:New Jersey\, USA
END:VEVENT
BEGIN:VEVENT
DTSTART;TZID=America/Los_Angeles:20250605T210000
DTEND;TZID=America/Los_Angeles:20250605T220000
DTSTAMP:20260424T110423
CREATED:20250509T222130Z
LAST-MODIFIED:20250509T222130Z
UID:1723-1749157200-1749160800@davefleschner.com
SUMMARY:The Bundy Band
DESCRIPTION:The BundyBand plays music inspired by New Orleans and the Pacific Northwest. It features many musicians who have been playing together in various formations for nearly 4 decades. You might catch us on a night up on the hill playing the jazz. Or a guest might come by and steer us down a path of John Prine songs. Any style of music is fair game: New Orleans trad jazz\, second line brass band tunes\, funk\, standards\, original songs about Humanzees and Han Solo\, or even covers from artists like Charles Wright\, The Band\, or Phish. Sometimes Fleschner lights an infinite cosmic fire with his organ. Sometimes Savage tears the fabric of space time with his flute. Sometimes Bundy even plugs his clarinet into a bunch of pedals and breaks your mind. If we get it right\, the music goes somewhere really special\, and we all go along for the ride.
URL:https://davefleschner.com/event/the-bundy-band-2/
LOCATION:The Goodfoot | Music\, Portland\, OR\, United States
END:VEVENT
END:VCALENDAR