BEGIN:VCALENDAR
VERSION:2.0
PRODID:-//Dave Fleschner - ECPv6.15.20//NONSGML v1.0//EN
CALSCALE:GREGORIAN
METHOD:PUBLISH
X-WR-CALNAME:Dave Fleschner
X-ORIGINAL-URL:https://davefleschner.com
X-WR-CALDESC:Events for Dave Fleschner
REFRESH-INTERVAL;VALUE=DURATION:PT1H
X-Robots-Tag:noindex
X-PUBLISHED-TTL:PT1H
BEGIN:VTIMEZONE
TZID:America/Los_Angeles
BEGIN:DAYLIGHT
TZOFFSETFROM:-0800
TZOFFSETTO:-0700
TZNAME:PDT
DTSTART:20240310T100000
END:DAYLIGHT
BEGIN:STANDARD
TZOFFSETFROM:-0700
TZOFFSETTO:-0800
TZNAME:PST
DTSTART:20241103T090000
END:STANDARD
BEGIN:DAYLIGHT
TZOFFSETFROM:-0800
TZOFFSETTO:-0700
TZNAME:PDT
DTSTART:20250309T100000
END:DAYLIGHT
BEGIN:STANDARD
TZOFFSETFROM:-0700
TZOFFSETTO:-0800
TZNAME:PST
DTSTART:20251102T090000
END:STANDARD
BEGIN:DAYLIGHT
TZOFFSETFROM:-0800
TZOFFSETTO:-0700
TZNAME:PDT
DTSTART:20260308T100000
END:DAYLIGHT
BEGIN:STANDARD
TZOFFSETFROM:-0700
TZOFFSETTO:-0800
TZNAME:PST
DTSTART:20261101T090000
END:STANDARD
END:VTIMEZONE
BEGIN:VEVENT
DTSTART;TZID=America/Los_Angeles:20250515T183000
DTEND;TZID=America/Los_Angeles:20250515T210000
DTSTAMP:20260424T124120
CREATED:20250317T062031Z
LAST-MODIFIED:20250510T074559Z
UID:1408-1747333800-1747342800@davefleschner.com
SUMMARY:The Blues Cabaret and Burlesque show at HōKū
DESCRIPTION:Doors at 6:00 P.M. \nTICKETS! \n1 Ticket – Two sets\, starting at 6:30 and 8:00 \n$15 if you buy before May 8. \n$20 at the door. \nUnderage seating available\, please indicated when purchasing tickets. \nHoku has delicious food and a full bar. \n\nDave Fleschner – Vocals and Piano\nJohn Dover – Trumpet\nWillie Matheis – Tenor Saxophone\nDan Gildea – Guitar\nBill Athens – Bass\nJohn Lamb – Drums\nDancers – Bee Bee Sanchez\, Obscura Fox and Viper\n\nThe Blues Cabaret” combines the grittiest elements of the blues with the nuance of jazz. A fourteen track album of original compositions by Dave Fleschner performed by some of the best musicians in the blues and jazz world\, this is a masterful production featuring the song “I Want to Love You\,” which was in contention for a grammy nomination by two different artists in the same year. \nIn addition to performances around the world featuring a variety of different band members and singers – The music of The Blues Cabaret is featured in a musical written by Fleschner and Wayne Harrell called “Buried Fire.”  This music was also featured in a choral production by the Portland Gay Men’s Chorus under the artistic direction of Bob Mensel. \nThe Burlesque dancers add a unique entertainment spin on this mostly original music show.  Be prepared for an entertainment roller coaster! \nTICKETS! \nTickets to the whole series!
URL:https://davefleschner.com/event/the-blues-cabaret/
LOCATION:Hōkū Events on Madison\, 1125 SE Madison St\, Portland\, OR\, 97214\, United States
END:VEVENT
END:VCALENDAR