BEGIN:VCALENDAR
VERSION:2.0
PRODID:-//Dave Fleschner - ECPv6.15.20//NONSGML v1.0//EN
CALSCALE:GREGORIAN
METHOD:PUBLISH
X-ORIGINAL-URL:https://davefleschner.com
X-WR-CALDESC:Events for Dave Fleschner
REFRESH-INTERVAL;VALUE=DURATION:PT1H
X-Robots-Tag:noindex
X-PUBLISHED-TTL:PT1H
BEGIN:VTIMEZONE
TZID:America/Los_Angeles
BEGIN:DAYLIGHT
TZOFFSETFROM:-0800
TZOFFSETTO:-0700
TZNAME:PDT
DTSTART:20240310T100000
END:DAYLIGHT
BEGIN:STANDARD
TZOFFSETFROM:-0700
TZOFFSETTO:-0800
TZNAME:PST
DTSTART:20241103T090000
END:STANDARD
BEGIN:DAYLIGHT
TZOFFSETFROM:-0800
TZOFFSETTO:-0700
TZNAME:PDT
DTSTART:20250309T100000
END:DAYLIGHT
BEGIN:STANDARD
TZOFFSETFROM:-0700
TZOFFSETTO:-0800
TZNAME:PST
DTSTART:20251102T090000
END:STANDARD
BEGIN:DAYLIGHT
TZOFFSETFROM:-0800
TZOFFSETTO:-0700
TZNAME:PDT
DTSTART:20260308T100000
END:DAYLIGHT
BEGIN:STANDARD
TZOFFSETFROM:-0700
TZOFFSETTO:-0800
TZNAME:PST
DTSTART:20261101T090000
END:STANDARD
END:VTIMEZONE
BEGIN:VEVENT
DTSTART;TZID=America/Los_Angeles:20250508T183000
DTEND;TZID=America/Los_Angeles:20250508T210000
DTSTAMP:20260424T124202
CREATED:20250317T062031Z
LAST-MODIFIED:20250409T051436Z
UID:1409-1746729000-1746738000@davefleschner.com
SUMMARY:The Bundy Band at HōKū
DESCRIPTION:  \nTICKETS! \nDoors at 6:00 P.M. \n1 Ticket – Two sets\, starting at 6:30 and 8:00 \n$15 if you buy before May 8. \n$20 at the door. \nUnderage seating available\, please indicated when purchasing tickets. \nThe Bundy Band plays music inspired by New Orleans and the Pacific Northwest. It features many musicians who have been playing together in various formations for nearly 3 decades. You might catch us on a night up on the hill playing the jazz. Or a guest might come by and steer us down a path of John Prine songs. Any style of music is fair game: New Orleans trad jazz\, second line brass band tunes\, funk\, standards\, original songs about Humanzees and Han Solo\, or even covers from artists like Charles Wright\, The Band\, or Phish. Sometimes Fleschner lights an infinite cosmic fire with his organ. Sometimes Savage tears the fabric of space time with his flute. Sometimes Bundy even plugs his clarinet into a bunch of pedals and breaks your mind. If we get it right\, the music goes somewhere really special\, and we all go along for the ride. \nHoku has delicious food and a full bar. \n \nTICKETS! \nLink to The Whole Series! \n 
URL:https://davefleschner.com/event/the-bundy-band/
LOCATION:Hōkū Events on Madison\, 1125 SE Madison St\, Portland\, OR\, 97214\, United States
END:VEVENT
END:VCALENDAR