BEGIN:VCALENDAR
VERSION:2.0
PRODID:-//Dave Fleschner - ECPv6.15.20//NONSGML v1.0//EN
CALSCALE:GREGORIAN
METHOD:PUBLISH
X-WR-CALNAME:Dave Fleschner
X-ORIGINAL-URL:https://davefleschner.com
X-WR-CALDESC:Events for Dave Fleschner
REFRESH-INTERVAL;VALUE=DURATION:PT1H
X-Robots-Tag:noindex
X-PUBLISHED-TTL:PT1H
BEGIN:VTIMEZONE
TZID:America/Los_Angeles
BEGIN:DAYLIGHT
TZOFFSETFROM:-0800
TZOFFSETTO:-0700
TZNAME:PDT
DTSTART:20240310T100000
END:DAYLIGHT
BEGIN:STANDARD
TZOFFSETFROM:-0700
TZOFFSETTO:-0800
TZNAME:PST
DTSTART:20241103T090000
END:STANDARD
BEGIN:DAYLIGHT
TZOFFSETFROM:-0800
TZOFFSETTO:-0700
TZNAME:PDT
DTSTART:20250309T100000
END:DAYLIGHT
BEGIN:STANDARD
TZOFFSETFROM:-0700
TZOFFSETTO:-0800
TZNAME:PST
DTSTART:20251102T090000
END:STANDARD
BEGIN:DAYLIGHT
TZOFFSETFROM:-0800
TZOFFSETTO:-0700
TZNAME:PDT
DTSTART:20260308T100000
END:DAYLIGHT
BEGIN:STANDARD
TZOFFSETFROM:-0700
TZOFFSETTO:-0800
TZNAME:PST
DTSTART:20261101T090000
END:STANDARD
END:VTIMEZONE
BEGIN:VEVENT
DTSTART;TZID=America/Los_Angeles:20250403T183000
DTEND;TZID=America/Los_Angeles:20250403T210000
DTSTAMP:20260424T141429
CREATED:20250317T062031Z
LAST-MODIFIED:20250330T193829Z
UID:1403-1743705000-1743714000@davefleschner.com
SUMMARY:ZUPPA Featuring Bevin Victoria
DESCRIPTION:It’s the return of Zuppa. \nDave Fleschner – Keys \nA.G. Donnaloia – Guitar \nAnthony Jones – Drums \nFeaturing Bevin Victoria on vocals and percussion. \nHere’s the story as Dave sees it: \n“I was playing a lot of organ trio music in the early 2000’s.  A.G. came up to me at a gig and asked if I was interested in starting a trio with him and Anthony Jones.  What ensued was several years of some of the most creative\, funky music I’ve been involved in.  We all went on to play with other groups – me with Curtis Salgado\, A.G. with Liv Warfield\, and Anthony with Pink Martini.  But now we’re back together\, and with our new collective experiences\, I’m excited to play music with these amazing people.  I met Bevin at a show a couple months ago\, and thought her cross-cultural approach to music and art to be a perfect complement to this group” \nBevin Victoria has worked as a guest artist with Sepiatonic\, Mike Van Liew and Underscore Orchestra and has been a featured vocalist on the Sepiatonic EP Step Up and Moh Alilech’s release Shame On You.  As a multi-talented artist – vocalist\, dancer\, actress\, percussionist – she brings a special kind of energy to the stage. \nIn 2017 she made her return to musical theatre in the Fox & Beggar production of Angamazad: A Tale of Arabian Nights and appeared as a soloist and an ensemble performer in the Modern Prometheans production\, Roles I’ll Never Play. In 2018 she appeared in I Hate Love Songs and It’s Good To Be Bad\, both also produced by Modern Prometheans. \nA.G. Donnaloia is a local performing\, touring and recording musician\, composer\, and guitar teacher for over 20 yrs. He plays and teaches a wide range of music styles including Jazz\, Latin American\, Soul\, R&B\, Rock and Hip Hop. He’s played with Liv Warfield and Freddy Trujillo\, among many others. \nOne of the founding members of N Touch\, drummer Anthony Jones has toured the world and performed at Carnegie Hall. He studied architecture and music at Portland State with pianist Darrell Grant and performed with the flamenco group Al-Andalus. He joined Pink Martiniin 2011\, and he recently returned to Portland to be home more with his wife Portia and their daughter.  And we’re so excited to have him back playing more locally. \nDoors at 6:00 P.M. \n1 Ticket – Two sets\, starting at 6:30 and 8:00: \nTickets at: \nhttps://www.tickettomato.com/event/9334 \n$15 if you buy before April 3. \n$20 at the door. \nUnderage seating available\, please indicated when purchasing tickets. \nHoku has delicious food and a full bar.
URL:https://davefleschner.com/event/the-dave-fleschner-trio-feat-special-guest-tba/
LOCATION:Hōkū Events on Madison\, 1125 SE Madison St\, Portland\, OR\, 97214\, United States
ORGANIZER;CN="Dave Fleschner":MAILTO:fleschtonerecords@gmail.com
END:VEVENT
END:VCALENDAR