BEGIN:VCALENDAR
VERSION:2.0
PRODID:-//Dave Fleschner - ECPv6.15.20//NONSGML v1.0//EN
CALSCALE:GREGORIAN
METHOD:PUBLISH
X-WR-CALNAME:Dave Fleschner
X-ORIGINAL-URL:https://davefleschner.com
X-WR-CALDESC:Events for Dave Fleschner
REFRESH-INTERVAL;VALUE=DURATION:PT1H
X-Robots-Tag:noindex
X-PUBLISHED-TTL:PT1H
BEGIN:VTIMEZONE
TZID:America/Los_Angeles
BEGIN:DAYLIGHT
TZOFFSETFROM:-0800
TZOFFSETTO:-0700
TZNAME:PDT
DTSTART:20240310T100000
END:DAYLIGHT
BEGIN:STANDARD
TZOFFSETFROM:-0700
TZOFFSETTO:-0800
TZNAME:PST
DTSTART:20241103T090000
END:STANDARD
BEGIN:DAYLIGHT
TZOFFSETFROM:-0800
TZOFFSETTO:-0700
TZNAME:PDT
DTSTART:20250309T100000
END:DAYLIGHT
BEGIN:STANDARD
TZOFFSETFROM:-0700
TZOFFSETTO:-0800
TZNAME:PST
DTSTART:20251102T090000
END:STANDARD
BEGIN:DAYLIGHT
TZOFFSETFROM:-0800
TZOFFSETTO:-0700
TZNAME:PDT
DTSTART:20260308T100000
END:DAYLIGHT
BEGIN:STANDARD
TZOFFSETFROM:-0700
TZOFFSETTO:-0800
TZNAME:PST
DTSTART:20261101T090000
END:STANDARD
END:VTIMEZONE
BEGIN:VEVENT
DTSTART;TZID=America/Los_Angeles:20250327T180000
DTEND;TZID=America/Los_Angeles:20250327T210000
DTSTAMP:20260424T160744
CREATED:20250220T110122Z
LAST-MODIFIED:20250323T193107Z
UID:1254-1743098400-1743109200@davefleschner.com
SUMMARY:The Dave Fleschner Trio Featuring Arietta Ward
DESCRIPTION:Doors at 6:00 P.M. \n1 Ticket – Two sets\, starting at 6:30 and 8:00 \n$15 if you buy before March 27. \n$20 at the door. \nUnderage seating available\, please indicated when purchasing tickets. \nHoku has delicious food and a full bar. \nThis will be the kickoff for a special Thursday night series featuring special guests at Hoku Events.  Be a part of this scene from its inception! Every Thursday will be different. \nArietta Ward joins the Dave Fleschner Trio and Querencia Dance Co. for a show you won’t forget. \nArietta\, referred as the “1st Daughter of Funk and R&B” and “Rip City Soul Funk Diva”\, is a force to behold. Her performances are full of joy\, authenticity\, passion and humor; an experience that you will not soon forget. \nDave\, Dan and Charlie have been making music together for decades. This trio begins with the vehicles for improvisation – a range of original tunes from Dave’s catalogue\, as well as a variety of blues\, funk soul and jazz classics. \n◦ Very inventive and swingin’ – Mike Finnigan \n◦ Dave is . . killin’ it on there. The songs are great! – Curtis Salgado \nAs if that’s not enough\, Querencia Dance Company will feature burlesque dancing by Bee Bee Sanchez and Obscura Fox accompanied by the band.
URL:https://davefleschner.com/event/the-dave-fleschner-trio-featuring-arietta-ward/
LOCATION:Hōkū Events on Madison\, 1125 SE Madison St\, Portland\, OR\, 97214\, United States
ORGANIZER;CN="Dave Fleschner":MAILTO:fleschtonerecords@gmail.com
END:VEVENT
END:VCALENDAR