BEGIN:VCALENDAR
VERSION:2.0
PRODID:-//Dave Fleschner - ECPv6.15.20//NONSGML v1.0//EN
CALSCALE:GREGORIAN
METHOD:PUBLISH
X-ORIGINAL-URL:https://davefleschner.com
X-WR-CALDESC:Events for Dave Fleschner
REFRESH-INTERVAL;VALUE=DURATION:PT1H
X-Robots-Tag:noindex
X-PUBLISHED-TTL:PT1H
BEGIN:VTIMEZONE
TZID:America/Los_Angeles
BEGIN:DAYLIGHT
TZOFFSETFROM:-0800
TZOFFSETTO:-0700
TZNAME:PDT
DTSTART:20240310T100000
END:DAYLIGHT
BEGIN:STANDARD
TZOFFSETFROM:-0700
TZOFFSETTO:-0800
TZNAME:PST
DTSTART:20241103T090000
END:STANDARD
BEGIN:DAYLIGHT
TZOFFSETFROM:-0800
TZOFFSETTO:-0700
TZNAME:PDT
DTSTART:20250309T100000
END:DAYLIGHT
BEGIN:STANDARD
TZOFFSETFROM:-0700
TZOFFSETTO:-0800
TZNAME:PST
DTSTART:20251102T090000
END:STANDARD
BEGIN:DAYLIGHT
TZOFFSETFROM:-0800
TZOFFSETTO:-0700
TZNAME:PDT
DTSTART:20260308T100000
END:DAYLIGHT
BEGIN:STANDARD
TZOFFSETFROM:-0700
TZOFFSETTO:-0800
TZNAME:PST
DTSTART:20261101T090000
END:STANDARD
END:VTIMEZONE
BEGIN:VEVENT
DTSTART;TZID=America/Los_Angeles:20250107T000000
DTEND;TZID=America/Los_Angeles:20250112T235959
DTSTAMP:20260424T193608
CREATED:20241117T071235Z
LAST-MODIFIED:20241117T071235Z
UID:459-1736208000-1736726399@davefleschner.com
SUMMARY:IBC
DESCRIPTION:
URL:https://davefleschner.com/event/ibc-2/
LOCATION:Memphis\, TN\, USA
END:VEVENT
BEGIN:VEVENT
DTSTART;TZID=America/Los_Angeles:20250110T000000
DTEND;TZID=America/Los_Angeles:20250110T235959
DTSTAMP:20260424T193608
CREATED:20250105T010740Z
LAST-MODIFIED:20250110T221841Z
UID:992-1736467200-1736553599@davefleschner.com
SUMMARY:IBC Semifinals
DESCRIPTION:https://blues.org/international-blues-challenge/
URL:https://davefleschner.com/event/ibc-semifinals/
LOCATION:OR
END:VEVENT
BEGIN:VEVENT
DTSTART;TZID=America/Los_Angeles:20250110T160000
DTEND;TZID=America/Los_Angeles:20250110T210000
DTSTAMP:20260424T193608
CREATED:20250105T010740Z
LAST-MODIFIED:20250110T221841Z
UID:995-1736524800-1736542800@davefleschner.com
SUMMARY:Youth Showcase\, Oregon Bluesberries
DESCRIPTION:See the Youth Showcase Band I coach at the IBC’s!https://blues.org/international-blues-challenge/
URL:https://davefleschner.com/event/youth-showcase-oregon-bluesberries/
LOCATION:Beale Street\, 2 Beale St\, Memphis\, TN\, United States
END:VEVENT
END:VCALENDAR